BEGIN:VCALENDAR
VERSION:2.0
PRODID:-//ITMA: IT Management Association - ECPv6.1.2.2//NONSGML v1.0//EN
CALSCALE:GREGORIAN
METHOD:PUBLISH
X-WR-CALNAME:ITMA: IT Management Association
X-ORIGINAL-URL:https://itma.org.sg
X-WR-CALDESC:Events for ITMA: IT Management Association
REFRESH-INTERVAL;VALUE=DURATION:PT1H
X-Robots-Tag:noindex
X-PUBLISHED-TTL:PT1H
BEGIN:VTIMEZONE
TZID:Asia/Shanghai
BEGIN:STANDARD
TZOFFSETFROM:+0800
TZOFFSETTO:+0800
TZNAME:CST
DTSTART:20180101T000000
END:STANDARD
END:VTIMEZONE
BEGIN:VEVENT
DTSTART;TZID=Asia/Shanghai:20180830T115900
DTEND;TZID=Asia/Shanghai:20180831T000000
DTSTAMP:20260422T062317
CREATED:20230609T234550Z
LAST-MODIFIED:20230614T015712Z
UID:843-1535630340-1535673600@itma.org.sg
SUMMARY:Wearable Technologies conference in Singapore!
DESCRIPTION:It is the 1st time\, Wearable Technologies AG (Germany) brings the WT conference Asia to Singapore. Together with Medica\, our co-operation partner\, the WT conference and the Medical Fair Asia will be held concurrently. \n\n\n\nIt is the 1st time\, Wearable Technologies AG (Germany) brings the WT conference Asia to Singapore. Together with Medica\, our co-operation partner\, the WT conference and the Medical Fair Asia will be held concurrently. \nCome to join us and gain the current market insights from our global speakers like Quanta\, Biovotion\, Eink\, ViCardio\, LionRockBatteries\, Accumold and networking with the relevant players from the extensive ecosystem in lifestyle and healthcare products from both events. It has recorded around 5\,000 visitors at the last Medical Fair event. This year\, we are expecting a higher numbers of visitors! It means you will gain valuable insights and business opportunities in lifestyle and healthcare products from both events. \nIt has recorded around 5\,000 visitors at the last Medical Fair event. This year\, we are expecting a higher numbers of visitors! It means you will gain valuable insights and business opportunities in lifestyle and healthcare products from both events. \nBefore the price goes up to S$459.-\, please be quick to register for the special ticket price at S$300.- for the 1.5 days event with full day catering and complimentary pass to the Medical Fair Asia. \nDetailed event information\, agenda\, the lineup Speakers and registration\, please access to the event page : https://www.wearable-technologies.asia/ \nPlease enter this promotion code : WTASIA_300 \nThe special offer valid till July 28 ! \nFor enquiries\, please email : p.tang@wearable-technologies.com or call (49) 8152 998860 \nLooking forward to welcome you at the WT | Wearable Technologies conference in Singapore!
URL:https://itma.org.sg/event/wearable-technologies-conference-in-singapore/
LOCATION:Singapore\, Singapore
ATTACH;FMTTYPE=image/png:https://itma.org.sg/itma/assets/2023/06/e22.png
END:VEVENT
END:VCALENDAR