BEGIN:VCALENDAR
VERSION:2.0
PRODID:-//ITMA: IT Management Association - ECPv6.1.2.2//NONSGML v1.0//EN
CALSCALE:GREGORIAN
METHOD:PUBLISH
X-WR-CALNAME:ITMA: IT Management Association
X-ORIGINAL-URL:https://itma.org.sg
X-WR-CALDESC:Events for ITMA: IT Management Association
REFRESH-INTERVAL;VALUE=DURATION:PT1H
X-Robots-Tag:noindex
X-PUBLISHED-TTL:PT1H
BEGIN:VTIMEZONE
TZID:Asia/Shanghai
BEGIN:STANDARD
TZOFFSETFROM:+0800
TZOFFSETTO:+0800
TZNAME:CST
DTSTART:20100101T000000
END:STANDARD
END:VTIMEZONE
BEGIN:VEVENT
DTSTART;TZID=Asia/Shanghai:20101021T140000
DTEND;TZID=Asia/Shanghai:20101021T163000
DTSTAMP:20260425T201013
CREATED:20230611T040629Z
LAST-MODIFIED:20230614T015352Z
UID:1566-1287669600-1287678600@itma.org.sg
SUMMARY:Visiting Resorts World Sentosa (RWS)\, 21 October. 2010
DESCRIPTION:We would like to invite you to join us in visiting Resorts World Sentosa (RWS). \n\n\n\nWe would like to invite you to join us in visiting Resorts World Sentosa (RWS). \nOperating Singapore’s first and largest Integrated Resort (IR)\, Resorts World Sentosa heralds a new era of lifestyle entertainment in Singapore. This 49-hectare\, S$6.59 billion must-see destination on the holiday island of Sentosa currently features the Resorts World Casino™\, four world class hotels\, the region’s first Hollywood movie theme park Universal Studios Singapore\, one of Asia’s largest ballrooms with much more to come. \nDuring the visit\, you will have the opportunity to learn how RFID technology is deployed by RWS to make sure that every single staff member in uniform is spiffily attired. By flashing an RFID tag\, the system will recognise the staff member\, the department that she/he is from\, and her/his uniform size. A conveyor belt will sort through the many uniforms and within minutes\, the right one will be picked out. \nThere will be a tour to explore the following areas in RWS :\n(1) Staff Cafeteria – RFID staff card is used to track staff meal entitlement.\n(2) Uniform System – RFID staff card is used to faciliate collection of uniform by staff before and after their shift.\n(3) Convention Center – One of Southeast Asia’s largest\, column-free ballroom.\n(4) Festive Walk & Bullring – This is a public area where most of the retails and restaurants are located. \nAfter the tour there will be a Q&A session cum refreshment and networking opportunities. \nLimited seats are available\, make your reservation now. You can send an email with your name\, position\, company and contact number to Ms Dorothy Heng at eventorganisers@itma.org.sgbefore Monday\, 18 October 2010. \nBest Regards\nITMA Event Organiser
URL:https://itma.org.sg/event/visiting-resorts-world-sentosa-rws-21-october-2010/
LOCATION:Resorts World Sentosa\,\, 8 Sentosa Gateway\, Singapore 098269\, Singapore
END:VEVENT
END:VCALENDAR