BEGIN:VCALENDAR
VERSION:2.0
PRODID:-//ITMA: IT Management Association - ECPv6.1.2.2//NONSGML v1.0//EN
CALSCALE:GREGORIAN
METHOD:PUBLISH
X-WR-CALNAME:ITMA: IT Management Association
X-ORIGINAL-URL:https://itma.org.sg
X-WR-CALDESC:Events for ITMA: IT Management Association
REFRESH-INTERVAL;VALUE=DURATION:PT1H
X-Robots-Tag:noindex
X-PUBLISHED-TTL:PT1H
BEGIN:VTIMEZONE
TZID:Asia/Shanghai
BEGIN:STANDARD
TZOFFSETFROM:+0800
TZOFFSETTO:+0800
TZNAME:CST
DTSTART:20110101T000000
END:STANDARD
END:VTIMEZONE
BEGIN:VEVENT
DTSTART;TZID=Asia/Shanghai:20110923T093000
DTEND;TZID=Asia/Shanghai:20110923T120000
DTSTAMP:20260426T085950
CREATED:20230611T031856Z
LAST-MODIFIED:20230614T015430Z
UID:1485-1316770200-1316779200@itma.org.sg
SUMMARY:Visit to Urban Redevelopment Authority (URA) Center
DESCRIPTION:Mark your calendar and join us on Friday\, 23 September 2011 for a visit to Urban Redevelopment Authority (URA) Centre. This visit will give you an insight on how URA harness the power of technology to make Singapore one of the most livable cities in Asia. \n\n\n\nDear ITMA Members \nMark your calendar and join us on Friday\, 23 September 2011 for a visit to Urban Redevelopment Authority (URA) Centre. This visit will give you an insight on how URA harness the power of technology to make Singapore one of the most livable cities in Asia. \nURA Information Technology\nThe Urban Redevelopment Authority is Singapore’s national land use planning agency\, with the mission to make Singapore a great city to live\, work and play in. URA prepares long term strategic plans\, as well as detailed local area plans\, for physical development\, and then co-ordinates and guides efforts to bring these plans to reality. \nTo realize the strategic plans\, URA proactively exploit information technology to increase productivity and provide better customer service. URA has also developed enterprise and innovative GIS and 3D systems. For example\, the Integrated Planning and Land Use System (IPLAN) uses state-of-the-art Geographic Information System (GIS) technology to integrate all land use information for easy retrieval in processing development applications. URA also implemented islandwide digital 3D Urban Model System to facilitate planning and urban design works.\nCome join us to learn about URA’s GIS and 3D systems\, followed by an enriching tour of the Singapore City Gallery which was recently revamped. With 10 thematic areas and more than 50 audiovisual and interactive exhibits spanning three floors over 2\,400 square metres\, the Singapore City Gallery offers an exciting\, multi-sensory learning experience into Singapore’s planning journey. \nLimited seats available\, make your reservation now. You can send an email with your Name\, IC/Passport No\, Position\, Company and Contact Number to Ms Betty Chew at bchew@ncs.com.sg before Wednesday\, 21 September 2011.
URL:https://itma.org.sg/event/visit-to-urban-redevelopment-authority-ura-center/
LOCATION:The URA Centre\, Singapore\, Singapore
END:VEVENT
END:VCALENDAR