BEGIN:VCALENDAR
VERSION:2.0
PRODID:-//ITMA: IT Management Association - ECPv6.1.2.2//NONSGML v1.0//EN
CALSCALE:GREGORIAN
METHOD:PUBLISH
X-WR-CALNAME:ITMA: IT Management Association
X-ORIGINAL-URL:https://itma.org.sg
X-WR-CALDESC:Events for ITMA: IT Management Association
REFRESH-INTERVAL;VALUE=DURATION:PT1H
X-Robots-Tag:noindex
X-PUBLISHED-TTL:PT1H
BEGIN:VTIMEZONE
TZID:Asia/Shanghai
BEGIN:STANDARD
TZOFFSETFROM:+0800
TZOFFSETTO:+0800
TZNAME:CST
DTSTART:20220101T000000
END:STANDARD
END:VTIMEZONE
BEGIN:VEVENT
DTSTART;TZID=Asia/Shanghai:20220707T140000
DTEND;TZID=Asia/Shanghai:20220707T173000
DTSTAMP:20260421T133547
CREATED:20230608T163743Z
LAST-MODIFIED:20230720T063216Z
UID:602-1657202400-1657215000@itma.org.sg
SUMMARY:Visit to SPTel Innovation Hub Exclusive Event
DESCRIPTION:Join SPTel and ITMA in this exclusive sharing session where we explore how solutions powered by Business Class Digital Services are helping to drive our smart nation vision. \n\n\n\nIn this session\, we will share with you how organisations are leveraging technology to relook their processes to improve reliability and accountability while reducing manpower requirements. Whether it’s in a hospital\, at our HDB blocks or even within corporate buildings\, there are many use cases that are being deployed to drive improved efficiency and safety for the people they serve. \nWe will also be covering a much talked about topic\, Quantum Encryption for a cyber secure smart nation future. We will discuss the impact of Quantum Computing\, it’s impact on cyber security as well as how Quantum Encryption will be able to shore up organisation defenses. This exclusive Quantum tech sharing will be helmed by SpeQtral\, a spin-off of the group of Alexander Ling at the Centre for Quantum Technologies at the National University of Singapore.
URL:https://itma.org.sg/event/visit-to-sptel-innovation-hub-exclusive-event/
LOCATION:3 Ang Mo Kio Electronics Park Rd\,\, #03-02 Singapore\, 567714\, Singapore
ATTACH;FMTTYPE=image/png:https://itma.org.sg/itma/assets/2023/06/Artboard-70-copy-2@2x.png
END:VEVENT
END:VCALENDAR