BEGIN:VCALENDAR
VERSION:2.0
PRODID:-//ITMA: IT Management Association - ECPv6.1.2.2//NONSGML v1.0//EN
CALSCALE:GREGORIAN
METHOD:PUBLISH
X-WR-CALNAME:ITMA: IT Management Association
X-ORIGINAL-URL:https://itma.org.sg
X-WR-CALDESC:Events for ITMA: IT Management Association
REFRESH-INTERVAL;VALUE=DURATION:PT1H
X-Robots-Tag:noindex
X-PUBLISHED-TTL:PT1H
BEGIN:VTIMEZONE
TZID:Asia/Shanghai
BEGIN:STANDARD
TZOFFSETFROM:+0800
TZOFFSETTO:+0800
TZNAME:CST
DTSTART:20110101T000000
END:STANDARD
END:VTIMEZONE
BEGIN:VEVENT
DTSTART;TZID=Asia/Shanghai:20110309T080000
DTEND;TZID=Asia/Shanghai:20110309T170000
DTSTAMP:20260425T021705
CREATED:20230611T035011Z
LAST-MODIFIED:20230614T015352Z
UID:1541-1299657600-1299690000@itma.org.sg
SUMMARY:The 7th Banking and Finance Technology Forum
DESCRIPTION:The 7th Banking and Finance Technology Forum will focus on the broader aspect of innovations and technologies made available to the Banking\, Financial Services and Insurance (BFSI) industry within the Asia Pacific region. \n\n\n\n \nThe 7th Banking and Finance Technology Forum will focus on the broader aspect of innovations and technologies made available to the Banking\, Financial Services and Insurance (BFSI) industry within the Asia Pacific region. \nIt has always been an issue for the banking and financial sectors to manage growth and profitability while adapting to the erratic conditions of the economy. The ever-changing atmosphere in the technology sector always tests the security measures available\, mobility\, and flexibility. \nThe 7th Banking and Finance Technology Forum Asia Pacific will be held on 9th March 2011 in Singapore and Euro Events is proud to organize the 7th year of the event to address some of the current issues and challenges on Technology\, security and innovations in the Banking and Finance Industry.
URL:https://itma.org.sg/event/the-7th-banking-and-finance-technology-forum/
LOCATION:Singapore\, Singapore
ATTACH;FMTTYPE=image/png:https://itma.org.sg/itma/assets/2023/06/e134.png
END:VEVENT
END:VCALENDAR