BEGIN:VCALENDAR
VERSION:2.0
PRODID:-//ITMA: IT Management Association - ECPv6.1.2.2//NONSGML v1.0//EN
CALSCALE:GREGORIAN
METHOD:PUBLISH
X-WR-CALNAME:ITMA: IT Management Association
X-ORIGINAL-URL:https://itma.org.sg
X-WR-CALDESC:Events for ITMA: IT Management Association
REFRESH-INTERVAL;VALUE=DURATION:PT1H
X-Robots-Tag:noindex
X-PUBLISHED-TTL:PT1H
BEGIN:VTIMEZONE
TZID:Asia/Shanghai
BEGIN:STANDARD
TZOFFSETFROM:+0800
TZOFFSETTO:+0800
TZNAME:CST
DTSTART:20160101T000000
END:STANDARD
END:VTIMEZONE
BEGIN:VEVENT
DTSTART;TZID=Asia/Shanghai:20160122T180000
DTEND;TZID=Asia/Shanghai:20160122T194500
DTSTAMP:20260422T101149
CREATED:20230610T024823Z
LAST-MODIFIED:20230614T015630Z
UID:1105-1453485600-1453491900@itma.org.sg
SUMMARY:SMU Session And Panel On Prospects For Intelligent Machines And Augmented Intelligence
DESCRIPTION:Come hear these four panellists present and discuss their perspectives on the prospects for intelligent machines and augmented intelligence\, and actively engage with these panellists through your questions. This is a public outreach and education event for the general public.
URL:https://itma.org.sg/event/smu-session-and-panel-on-prospects-for-intelligent-machines-and-augmented-intelligence/
LOCATION:Ngee Ann Kongsi Auditorium Level 2\,\, School of Accountancy/School of Law\, Singapore
ATTACH;FMTTYPE=image/png:https://itma.org.sg/itma/assets/2023/06/e58.png
END:VEVENT
END:VCALENDAR