BEGIN:VCALENDAR
VERSION:2.0
PRODID:-//ITMA: IT Management Association - ECPv6.1.2.2//NONSGML v1.0//EN
CALSCALE:GREGORIAN
METHOD:PUBLISH
X-WR-CALNAME:ITMA: IT Management Association
X-ORIGINAL-URL:https://itma.org.sg
X-WR-CALDESC:Events for ITMA: IT Management Association
REFRESH-INTERVAL;VALUE=DURATION:PT1H
X-Robots-Tag:noindex
X-PUBLISHED-TTL:PT1H
BEGIN:VTIMEZONE
TZID:Asia/Shanghai
BEGIN:STANDARD
TZOFFSETFROM:+0800
TZOFFSETTO:+0800
TZNAME:CST
DTSTART:20130101T000000
END:STANDARD
END:VTIMEZONE
BEGIN:VEVENT
DTSTART;TZID=Asia/Shanghai:20130628T080000
DTEND;TZID=Asia/Shanghai:20130628T170000
DTSTAMP:20260423T025256
CREATED:20230610T132301Z
LAST-MODIFIED:20230614T015514Z
UID:1295-1372406400-1372438800@itma.org.sg
SUMMARY:SiTF Awards 2013
DESCRIPTION:SiTF Awards 2013
URL:https://itma.org.sg/event/sitf-awards-2013/
ATTACH;FMTTYPE=image/png:https://itma.org.sg/itma/assets/2023/06/e89.png
END:VEVENT
END:VCALENDAR