BEGIN:VCALENDAR
VERSION:2.0
PRODID:-//ITMA: IT Management Association - ECPv6.1.2.2//NONSGML v1.0//EN
CALSCALE:GREGORIAN
METHOD:PUBLISH
X-WR-CALNAME:ITMA: IT Management Association
X-ORIGINAL-URL:https://itma.org.sg
X-WR-CALDESC:Events for ITMA: IT Management Association
REFRESH-INTERVAL;VALUE=DURATION:PT1H
X-Robots-Tag:noindex
X-PUBLISHED-TTL:PT1H
BEGIN:VTIMEZONE
TZID:Asia/Shanghai
BEGIN:STANDARD
TZOFFSETFROM:+0800
TZOFFSETTO:+0800
TZNAME:CST
DTSTART:20110101T000000
END:STANDARD
END:VTIMEZONE
BEGIN:VEVENT
DTSTART;TZID=Asia/Shanghai:20111021T090000
DTEND;TZID=Asia/Shanghai:20111021T170000
DTSTAMP:20260425T040443
CREATED:20230611T023700Z
LAST-MODIFIED:20230614T015430Z
UID:1477-1319187600-1319216400@itma.org.sg
SUMMARY:SCS IT Law Seminar on “Legal Issues of Cloud Computing
DESCRIPTION:SCS is pleased to bring you a one-day SCS IT Law Seminar on “Legal Issues of Cloud Computing” by Dr Toh See Kiat on 21October 2011. This is a power-packed seminar which will certainly benefit you and your colleagues. With cloud computing becoming the buzz word of the day\, everyone is going there except your lawyers. \n\n\n\nDear ITMA Member \nSCS is pleased to bring you a one-day SCS IT Law Seminar on “Legal Issues of Cloud Computing” by Dr Toh See Kiat on 21October 2011. This is a power-packed seminar which will certainly benefit you and your colleagues. With cloud computing becoming the buzz word of the day\, everyone is going there except your lawyers. Join us in this seminar to find out more about privacy law\, your legal liabilities when you use the cloud\, pitfalls to watch out for when yougo to the cloud\, contractual issues of cloud computing\, intellectual property\, data retention and evidence\, governing laws and other issues. \nAs this topic is highly relevant to IT professionals\, we urge you to take this opportunity to encourage you and your colleagues to attend this seminar. ITMA members would be entitled to SCS members rate too. (Please remember to mention that you are ITMA member when you register for the event). \nPlease do not hesitate to contact Cindy Aw of SCS at tel: 6226 2567 ext 10 or email at cindy.aw@scs.org.sg for further assistance. \nBest Regards \nITMA Event Organiser
URL:https://itma.org.sg/event/scs-it-law-seminar-on-legal-issues-of-cloud-computing/
LOCATION:Singapore Management\, University\, Singapore
END:VEVENT
END:VCALENDAR