BEGIN:VCALENDAR
VERSION:2.0
PRODID:-//ITMA: IT Management Association - ECPv6.1.2.2//NONSGML v1.0//EN
CALSCALE:GREGORIAN
METHOD:PUBLISH
X-WR-CALNAME:ITMA: IT Management Association
X-ORIGINAL-URL:https://itma.org.sg
X-WR-CALDESC:Events for ITMA: IT Management Association
REFRESH-INTERVAL;VALUE=DURATION:PT1H
X-Robots-Tag:noindex
X-PUBLISHED-TTL:PT1H
BEGIN:VTIMEZONE
TZID:Asia/Shanghai
BEGIN:STANDARD
TZOFFSETFROM:+0800
TZOFFSETTO:+0800
TZNAME:CST
DTSTART:20150101T000000
END:STANDARD
END:VTIMEZONE
BEGIN:VEVENT
DTSTART;TZID=Asia/Shanghai:20150206T090000
DTEND;TZID=Asia/Shanghai:20150206T170000
DTSTAMP:20260422T171458
CREATED:20230610T113841Z
LAST-MODIFIED:20230614T015543Z
UID:1193-1423213200-1423242000@itma.org.sg
SUMMARY:SCS BCM Conference: Redefining BCM in the Cloud Era and Evolving Risk Landscape on 6 Feb 2015
DESCRIPTION:The Singapore Computer Society is organising a unique conference on 6 February 2015 at the InterContinental Hotel. Titled “Redefining BCM in the Cloud Era and Evolving Risk Landscape”\, participants will get to hear from experts about how to boost your business continuity plans in light of increasing risks and uncertainties as well as get insights on the government’s plans and the best practices in these areas. \n\n\n\n\n\n\n\n\n\nBCM Conference 2015: Redefining BCM in the Cloud Era and Evolving Risk Landscape\nFriday\, 6 February 2015\, 9.00am to 5.00pm\nInterContinental Hotel \nThe Singapore Computer Society is organising a unique conference on 6 February 2015 at the InterContinental Hotel. Titled “Redefining BCM in the Cloud Era and Evolving Risk Landscape”\, participants will get to hear from experts about how to boost your business continuity plans in light of increasing risks and uncertainties as well as get insights on the government’s plans and the best practices in these areas. To register\, please click here. \nFor enquiries\, please contact Ms Leong Hoi Lan\, BCG secretariat\, at Tel: 6226 2567 ext 12 or email: hoilan.leong@scs.org.sg. \nWe look forward to seeing you at the Conference. \nWarm regards\,\nSingapore Computer Society
URL:https://itma.org.sg/event/scs-bcm-conference-redefining-bcm-in-the-cloud-era-and-evolving-risk-landscape-on-6-feb-2015/
LOCATION:Hotel Intercontinental\, Sinapore 188966\, Singapore
ATTACH;FMTTYPE=image/png:https://itma.org.sg/itma/assets/2023/06/e67.png
END:VEVENT
END:VCALENDAR