BEGIN:VCALENDAR
VERSION:2.0
PRODID:-//ITMA: IT Management Association - ECPv6.1.2.2//NONSGML v1.0//EN
CALSCALE:GREGORIAN
METHOD:PUBLISH
X-WR-CALNAME:ITMA: IT Management Association
X-ORIGINAL-URL:https://itma.org.sg
X-WR-CALDESC:Events for ITMA: IT Management Association
REFRESH-INTERVAL;VALUE=DURATION:PT1H
X-Robots-Tag:noindex
X-PUBLISHED-TTL:PT1H
BEGIN:VTIMEZONE
TZID:Asia/Shanghai
BEGIN:STANDARD
TZOFFSETFROM:+0800
TZOFFSETTO:+0800
TZNAME:CST
DTSTART:20100101T000000
END:STANDARD
END:VTIMEZONE
BEGIN:VEVENT
DTSTART;TZID=Asia/Shanghai:20100713T080000
DTEND;TZID=Asia/Shanghai:20100714T170000
DTSTAMP:20260425T190736
CREATED:20230611T041546Z
LAST-MODIFIED:20230614T015352Z
UID:1584-1279008000-1279126800@itma.org.sg
SUMMARY:Regional Collaboration in Cybersecurity - Shangri-La Hotel
DESCRIPTION:Regional Collaboration in Cybersecurity – Shangri-La Hotel \n\n\n\nRegional Collaboration in Cybersecurity – Shangri-La Hotel
URL:https://itma.org.sg/event/regional-collaboration-in-cybersecurity-shangri-la-hotel/
LOCATION:Shangri-la\, Singapore Hotel\, 258350\, Singapore
END:VEVENT
END:VCALENDAR