BEGIN:VCALENDAR
VERSION:2.0
PRODID:-//ITMA: IT Management Association - ECPv6.1.2.2//NONSGML v1.0//EN
CALSCALE:GREGORIAN
METHOD:PUBLISH
X-WR-CALNAME:ITMA: IT Management Association
X-ORIGINAL-URL:https://itma.org.sg
X-WR-CALDESC:Events for ITMA: IT Management Association
REFRESH-INTERVAL;VALUE=DURATION:PT1H
X-Robots-Tag:noindex
X-PUBLISHED-TTL:PT1H
BEGIN:VTIMEZONE
TZID:Asia/Shanghai
BEGIN:STANDARD
TZOFFSETFROM:+0800
TZOFFSETTO:+0800
TZNAME:CST
DTSTART:20220101T000000
END:STANDARD
END:VTIMEZONE
BEGIN:VEVENT
DTSTART;TZID=Asia/Shanghai:20220609T180000
DTEND;TZID=Asia/Shanghai:20220609T180000
DTSTAMP:20260421T164846
CREATED:20230608T164107Z
LAST-MODIFIED:20230721T025325Z
UID:606-1654797600-1654797600@itma.org.sg
SUMMARY:Real-Time Business Innovation Executive Dinner
DESCRIPTION:Businesses today are facing more disruption than ever while also facing a challenge engaging younger digital native demographics and the shift to the real-time economy. \n\n\n\nJoin Hazelcast and leaders from across Industries for an executive dinner and hear from peers on how they are innovating and addressing key technology challenges. \nHazelcast is powering innovative use cases across industries\, such as:\n• Real-time personalized offers – driving 4X improvement in conversion rates and enabling “right offer at the right time” and other experiences in Retail\, Banking\, Exchanges\, e-commerce and gaming\n• Instant payments and other payments innovations – enabling deeper engagement\n• Industry 4.0 and Internet-of-Things from predictive maintenance to real-time telemetry in Medical\, Transportation\, Oil & Gas and Utilities\n• Super-charging Artificial Intelligence and Machine-learning\nUsers of Hazelcast include : \nApple\, VISA\, HSBC\, Walmart\, Target\, Lowe’s\, JP Morgan\, Mercedes\, Ericsson\, Nissan\, Accor Hotels\, Domino’s\, eBay\, Airbus\, Schneider\, Gamesys\, Electronic Arts\, Standard Chartered\, Vale\, Kindred\, Navis\, Paypal\, CBOE\, Optum\, Mulesoft\, Atlassian.
URL:https://itma.org.sg/event/real-time-business-innovation-executive-dinner/
LOCATION:80 Collyer Quay\,\, Singapore 049326\, Singapore
ATTACH;FMTTYPE=image/png:https://itma.org.sg/itma/assets/2023/06/Artboard-70@2x.png
END:VEVENT
END:VCALENDAR