BEGIN:VCALENDAR
VERSION:2.0
PRODID:-//ITMA: IT Management Association - ECPv6.1.2.2//NONSGML v1.0//EN
CALSCALE:GREGORIAN
METHOD:PUBLISH
X-WR-CALNAME:ITMA: IT Management Association
X-ORIGINAL-URL:https://itma.org.sg
X-WR-CALDESC:Events for ITMA: IT Management Association
REFRESH-INTERVAL;VALUE=DURATION:PT1H
X-Robots-Tag:noindex
X-PUBLISHED-TTL:PT1H
BEGIN:VTIMEZONE
TZID:Asia/Shanghai
BEGIN:STANDARD
TZOFFSETFROM:+0800
TZOFFSETTO:+0800
TZNAME:CST
DTSTART:20180101T000000
END:STANDARD
END:VTIMEZONE
BEGIN:VEVENT
DTSTART;TZID=Asia/Shanghai:20180827T180000
DTEND;TZID=Asia/Shanghai:20180827T210000
DTSTAMP:20260422T074623
CREATED:20230609T234934Z
LAST-MODIFIED:20230614T015712Z
UID:850-1535392800-1535403600@itma.org.sg
SUMMARY:OT Security\, Aged Beef & Whiskey. A fireside chat with FireEye
DESCRIPTION:From power and utilities to transportation\, operational technology (OT) and IT networks are becoming increasingly interconnected. \n\n\n\nFrom power and utilities to transportation\, operational technology (OT) and IT networks are becoming increasingly interconnected. The opportunities and innovations that this merging of technologies provides is unprecedented\, but it also brings with it the darker side. The industrial Internet of Things (IoT) introduces unique and unseen vulnerabilities that can be exploited by advanced attackers for IP theft and even physical destruction. Your security systems need to defend against these attacks. \nYou are cordially invited to learn how you can beef up your OT Defenses with FireEye’s industry-leading solutions & technology\, to deliver holistic protection for your entire enterprise. \nTo enhance the evening experience\, we will sample some of the best cuts of dry-aged beef\, aged from 30\, 45 & 60 days\, handpicked and specially prepared by a renowned local chef Jeff Zhen\, each carefully paired with specially selected whisky. \nSign up today for a fireside conversation about OT and IOT sensors\, that promises to stimulate our intellect and senses.
URL:https://itma.org.sg/event/ot-security-aged-beef-whiskey-a-fireside-chat-with-fireeye/
LOCATION:Laughing Juice 21 Orchard Boulevard\, #01-25 Park House Singapore 248645\, Singapore
ATTACH;FMTTYPE=image/png:https://itma.org.sg/itma/assets/2023/06/e23.png
END:VEVENT
END:VCALENDAR