BEGIN:VCALENDAR
VERSION:2.0
PRODID:-//ITMA: IT Management Association - ECPv6.1.2.2//NONSGML v1.0//EN
CALSCALE:GREGORIAN
METHOD:PUBLISH
X-WR-CALNAME:ITMA: IT Management Association
X-ORIGINAL-URL:https://itma.org.sg
X-WR-CALDESC:Events for ITMA: IT Management Association
REFRESH-INTERVAL;VALUE=DURATION:PT1H
X-Robots-Tag:noindex
X-PUBLISHED-TTL:PT1H
BEGIN:VTIMEZONE
TZID:Asia/Shanghai
BEGIN:STANDARD
TZOFFSETFROM:+0800
TZOFFSETTO:+0800
TZNAME:CST
DTSTART:20180101T000000
END:STANDARD
END:VTIMEZONE
BEGIN:VEVENT
DTSTART;TZID=Asia/Shanghai:20180328T190000
DTEND;TZID=Asia/Shanghai:20180328T190000
DTSTAMP:20260422T093948
CREATED:20230610T002434Z
LAST-MODIFIED:20230614T015657Z
UID:910-1522263600-1522263600@itma.org.sg
SUMMARY:NOTICE OF ANNUAL GENERAL MEETING 2018 cum Talk on Economic Outlook 2018 by Dr Tan Kee Wee
DESCRIPTION:NOTICE OF ANNUAL GENERAL MEETING 2018 cum\nTalk on Economic Outlook 2018 by Dr Tan Kee Wee \nITMA’s Annual General Meeting will take place on \nWednesday\, 28th March 2018 at 7:00pm\, at Ballroom III\,\nLevel 3\, Singapore Marriott Tang Plaza Hotel \nPlease click HERE to view Notice of Annual General Meeting 2018.\nThose who have registered earlier for the 38th AGM do not have to register again. \nPlease click HERE for the talk outline. \nPlease click on the following to register or/and download the nomination form.\nYour details have been pre-filled in your attendance form below for your convenience. Please do not forward to others. \nI will be attending the Annual General Meeting \nAccess to Nomination Form
URL:https://itma.org.sg/event/notice-of-annual-general-meeting-2018-cum-talk-on-economic-outlook-2018-by-dr-tan-kee-wee/
LOCATION:Singapore Marriott Tang Plaza Hotel\, Singapore
ATTACH;FMTTYPE=image/png:https://itma.org.sg/itma/assets/2023/06/e33.png
END:VEVENT
END:VCALENDAR