BEGIN:VCALENDAR
VERSION:2.0
PRODID:-//ITMA: IT Management Association - ECPv6.1.2.2//NONSGML v1.0//EN
CALSCALE:GREGORIAN
METHOD:PUBLISH
X-WR-CALNAME:ITMA: IT Management Association
X-ORIGINAL-URL:https://itma.org.sg
X-WR-CALDESC:Events for ITMA: IT Management Association
REFRESH-INTERVAL;VALUE=DURATION:PT1H
X-Robots-Tag:noindex
X-PUBLISHED-TTL:PT1H
BEGIN:VTIMEZONE
TZID:Asia/Shanghai
BEGIN:STANDARD
TZOFFSETFROM:+0800
TZOFFSETTO:+0800
TZNAME:CST
DTSTART:20100101T000000
END:STANDARD
END:VTIMEZONE
BEGIN:VEVENT
DTSTART;TZID=Asia/Shanghai:20101004T080000
DTEND;TZID=Asia/Shanghai:20101004T170000
DTSTAMP:20260425T043051
CREATED:20230611T040839Z
LAST-MODIFIED:20230614T015352Z
UID:1570-1286179200-1286211600@itma.org.sg
SUMMARY:National Infocomm Awards 2010 Gala Dinner
DESCRIPTION:The biennial National Infocomm Awards (NIA) is back for its fifth run this year to reward excellence in infocomm innovations in Singapore. Jointly organised by the Infocomm Development Authority of Singapore (IDA) and Singapore Infocomm Technology Federation (SiTF)\, NIA is the highest accolade for the infocomm industry in Singapore. \n\n\n\nThe biennial National Infocomm Awards (NIA) is back for its fifth run this year to reward excellence in infocomm innovations in Singapore. Jointly organised by the Infocomm Development Authority of Singapore (IDA) and Singapore Infocomm Technology Federation (SiTF)\, NIA is the highest accolade for the infocomm industry in Singapore. The NIA highlights innovative products and services from infocomm companies in Singapore\, and recognises private and public sector organisations that have harnessed infocomm technology to enhance their businesses. The Awards has helped establish a brand name for Singapore’s infocomm enterprises and inspired industry players to pursue the world-class benchmarks set by the winners. \nNominations opened in March 2010 and will end on 2 June 2010. Winners will be honoured in a gala dinner to be held in October 2010. \nFor more information\, please contact Mr David Cai at Tel: +65 6211 0888 or mail tonia@ida.org.sg
URL:https://itma.org.sg/event/national-infocomm-awards-2010-gala-dinner/
LOCATION:Ritz Carlton Millenia\, Singapore\, Singapore
END:VEVENT
END:VCALENDAR