BEGIN:VCALENDAR
VERSION:2.0
PRODID:-//ITMA: IT Management Association - ECPv6.1.2.2//NONSGML v1.0//EN
CALSCALE:GREGORIAN
METHOD:PUBLISH
X-WR-CALNAME:ITMA: IT Management Association
X-ORIGINAL-URL:https://itma.org.sg
X-WR-CALDESC:Events for ITMA: IT Management Association
REFRESH-INTERVAL;VALUE=DURATION:PT1H
X-Robots-Tag:noindex
X-PUBLISHED-TTL:PT1H
BEGIN:VTIMEZONE
TZID:Asia/Shanghai
BEGIN:STANDARD
TZOFFSETFROM:+0800
TZOFFSETTO:+0800
TZNAME:CST
DTSTART:20210101T000000
END:STANDARD
END:VTIMEZONE
BEGIN:VEVENT
DTSTART;TZID=Asia/Shanghai:20211006T150000
DTEND;TZID=Asia/Shanghai:20211006T160000
DTSTAMP:20260421T180553
CREATED:20230609T023427Z
LAST-MODIFIED:20230721T041330Z
UID:661-1633532400-1633536000@itma.org.sg
SUMMARY:Leverage on Cloud Technologies to Maximise Productivity
DESCRIPTION:To optimise your company’s resources\, enable efficient collaboration\, and ensure customers satisfaction\, it is critical to understand cloud technologies so that you can make the right investment and deployment decisions. \n\n\n\nIn this session\, our panel of industry speakers will share on: \n\nPrimary factors to decide which cloud technologies to adopt for various workloads\nBusiness and technical considerations for cloud decisions such as regulatory compliance and data gravity\nInsights from real-life use applications of private\, public and hybrid cloud infrastructure approaches\nEmerging cloud trends and opportunities to look out for
URL:https://itma.org.sg/event/leverage-on-cloud-technologies-to-maximise-productivity/
LOCATION:Online\, Singapore
ATTACH;FMTTYPE=image/png:https://itma.org.sg/itma/assets/2023/06/Artboard-70-copy@2x-1.png
END:VEVENT
END:VCALENDAR