BEGIN:VCALENDAR
VERSION:2.0
PRODID:-//ITMA: IT Management Association - ECPv6.1.2.2//NONSGML v1.0//EN
CALSCALE:GREGORIAN
METHOD:PUBLISH
X-WR-CALNAME:ITMA: IT Management Association
X-ORIGINAL-URL:https://itma.org.sg
X-WR-CALDESC:Events for ITMA: IT Management Association
REFRESH-INTERVAL;VALUE=DURATION:PT1H
X-Robots-Tag:noindex
X-PUBLISHED-TTL:PT1H
BEGIN:VTIMEZONE
TZID:Asia/Shanghai
BEGIN:STANDARD
TZOFFSETFROM:+0800
TZOFFSETTO:+0800
TZNAME:CST
DTSTART:20220101T000000
END:STANDARD
END:VTIMEZONE
BEGIN:VEVENT
DTSTART;TZID=Asia/Shanghai:20220825T053000
DTEND;TZID=Asia/Shanghai:20220825T220000
DTSTAMP:20260421T150512
CREATED:20230608T153530Z
LAST-MODIFIED:20230720T064615Z
UID:580-1661405400-1661464800@itma.org.sg
SUMMARY:ITMA-Workday Cruise - Navigating a Constantly Changing World
DESCRIPTION:Dear ITMA Members\, \nAmid economic uncertainties and in the face of rising challenges\, organizations need to remain vigilant\, adapt operations and learn new behaviour to remain competitive. Organizations must succeed at operating in ways that are highly adaptive to ensure they build enough elasticity into business processes and systems to morph as their business does. \n\n\n\nJoin Workday on a voyage to explore the evolution of adaptable organizations and how we can accelerate your journey towards adapting for tomorrow. Damian Leach\, Chief Technology Officer (CTO) of Workday Asia Pacific and Japan\, will discuss the characteristics of adaptable organizations\, industry analysis and case studies of organizations whom have successfully embarked on this journey. \nSpeaker \nDamian Leach\nChief Technology Officer (CTO) of Workday Asia Pacific and Japan \nDamian joined Workday in APJ based out of Singapore as Chief Technology Officer (CTO) in October 2021. Prior to Workday\, Damian spent 10 years at Standard Chartered Bank as the global Head of Collaboration & Communications Technology\, managing applications globally and transformed services to the cloud. He led the Bank’s global award winning digital transformation program featured in a Channel News Asia Documentary\, ‘On common ground’. The documentary also covers his entrepreneurial journey as well as his family’s integration story as a new Singaporean.
URL:https://itma.org.sg/event/itma-workday-cruise-navigating-a-constantly-changing-world/
LOCATION:11 Cove Drive\,\, Sentosa Cove\,#01-01\, 098497\, Singapore
ATTACH;FMTTYPE=image/png:https://itma.org.sg/itma/assets/2023/05/Artboard-71@2x.png
END:VEVENT
END:VCALENDAR