BEGIN:VCALENDAR
VERSION:2.0
PRODID:-//ITMA: IT Management Association - ECPv6.1.2.2//NONSGML v1.0//EN
CALSCALE:GREGORIAN
METHOD:PUBLISH
X-WR-CALNAME:ITMA: IT Management Association
X-ORIGINAL-URL:https://itma.org.sg
X-WR-CALDESC:Events for ITMA: IT Management Association
REFRESH-INTERVAL;VALUE=DURATION:PT1H
X-Robots-Tag:noindex
X-PUBLISHED-TTL:PT1H
BEGIN:VTIMEZONE
TZID:Asia/Shanghai
BEGIN:STANDARD
TZOFFSETFROM:+0800
TZOFFSETTO:+0800
TZNAME:CST
DTSTART:20200101T000000
END:STANDARD
END:VTIMEZONE
BEGIN:VEVENT
DTSTART;TZID=Asia/Shanghai:20200616T190000
DTEND;TZID=Asia/Shanghai:20200616T190000
DTSTAMP:20260421T232521
CREATED:20230609T033739Z
LAST-MODIFIED:20230721T035254Z
UID:724-1592334000-1592334000@itma.org.sg
SUMMARY:ITMA Webinar with Dr Tan Kee Wee: Globalisation After Covid-19
DESCRIPTION:Dear ITMA Members\, \nThis coronavirus has destroyed and created many industries. It has also changed the way we work and play. \n\n\n\nThis online lecture will focus on how globalisation will develop from here. One of the things it has done is to encourage people to use e-payment systems. \nCurrently\, we depend on our credit cards and bank accounts for e-payments. And this in turn depends on our traditional banking systems. But there is a parallel banking system being developed that will soon replace the traditional banking system. \nThis transformation could be very sudden\, just as the appearance of the coronavirus was sudden. Attend this talk and find out how the global economies will be affected when this transformation occurs. \nOur distinguish guest – Dr Tan Kee Wee \nTan Kee Wee runs an economics advisory firm. Prior to that\, Dr Tan spent many years in the investment industry as an economist\, forecasting the financial markets and global economies. \nDr Tan started off his career in 1988 as a journalist with the Business Times. That was after he secured his PhD in Economics from the University of East Anglia in Britain. \nDespite spending most of his career in the business world\, he continues to teach undergraduates economics on a part-time basis.
URL:https://itma.org.sg/event/itma-webinar-with-dr-tan-kee-wee-globalisation-after-covid-19/
LOCATION:Online\, Singapore
ATTACH;FMTTYPE=image/png:https://itma.org.sg/itma/assets/2023/06/Artboard-71-copy-3@2x.png
END:VEVENT
END:VCALENDAR