BEGIN:VCALENDAR
VERSION:2.0
PRODID:-//ITMA: IT Management Association - ECPv6.1.2.2//NONSGML v1.0//EN
CALSCALE:GREGORIAN
METHOD:PUBLISH
X-WR-CALNAME:ITMA: IT Management Association
X-ORIGINAL-URL:https://itma.org.sg
X-WR-CALDESC:Events for ITMA: IT Management Association
REFRESH-INTERVAL;VALUE=DURATION:PT1H
X-Robots-Tag:noindex
X-PUBLISHED-TTL:PT1H
BEGIN:VTIMEZONE
TZID:Asia/Shanghai
BEGIN:STANDARD
TZOFFSETFROM:+0800
TZOFFSETTO:+0800
TZNAME:CST
DTSTART:20220101T000000
END:STANDARD
END:VTIMEZONE
BEGIN:VEVENT
DTSTART;TZID=Asia/Shanghai:20220923T183000
DTEND;TZID=Asia/Shanghai:20220923T210000
DTSTAMP:20260421T150849
CREATED:20230721T030324Z
LAST-MODIFIED:20230721T030324Z
UID:1806-1663957800-1663966800@itma.org.sg
SUMMARY:ITMA Visit to Schneider Electric Singapore Innovation Hub
DESCRIPTION:
URL:https://itma.org.sg/event/itma-visit-to-schneider-electric-singapore-innovation-hub/
LOCATION:Schneider Electric Singapore Innovation Hub\, 20 Tuas South Ave 14\, Level 2 Tuas Logistics Hub\, 637312\, Singapore
ATTACH;FMTTYPE=image/png:https://itma.org.sg/itma/assets/2023/05/Artboard-71@2x.png
END:VEVENT
END:VCALENDAR