BEGIN:VCALENDAR
VERSION:2.0
PRODID:-//ITMA: IT Management Association - ECPv6.1.2.2//NONSGML v1.0//EN
CALSCALE:GREGORIAN
METHOD:PUBLISH
X-WR-CALNAME:ITMA: IT Management Association
X-ORIGINAL-URL:https://itma.org.sg
X-WR-CALDESC:Events for ITMA: IT Management Association
REFRESH-INTERVAL;VALUE=DURATION:PT1H
X-Robots-Tag:noindex
X-PUBLISHED-TTL:PT1H
BEGIN:VTIMEZONE
TZID:Asia/Shanghai
BEGIN:STANDARD
TZOFFSETFROM:+0800
TZOFFSETTO:+0800
TZNAME:CST
DTSTART:20210101T000000
END:STANDARD
END:VTIMEZONE
BEGIN:VEVENT
DTSTART;TZID=Asia/Shanghai:20210722T190000
DTEND;TZID=Asia/Shanghai:20210722T200000
DTSTAMP:20260421T165612
CREATED:20230609T024428Z
LAST-MODIFIED:20230721T040755Z
UID:674-1626980400-1626984000@itma.org.sg
SUMMARY:ITMA Virtual Durian Fest
DESCRIPTION:Dear ITMA Members\, \nWe’re back with another virtual durian feast! Proudly brought to you by ITMA\, AsiaPac and Huawei. COVID-19 is here to stay\, and all of us must adapt to this “Never Normal” that is characterized by VUCA (Volatility\, Uncertainty\, Complexity & Ambiguity). While the New Normal has accelerated it\, digital transformation is not an option for us to survive and thrive in the Never Normal. \n\n\n\nCome join and listen to the speakers by Huawei on this exciting topic whilst enjoying plump and creamy durians in the comfort of your home\, freshly delivered to you! \nWhat’s more? You can also indulge in fun games and stand to win prizes too! So hurry\, join us for some delicious virtual fun!
URL:https://itma.org.sg/event/itma-virtual-durian-fest/
LOCATION:Online\, Singapore
ATTACH;FMTTYPE=image/png:https://itma.org.sg/itma/assets/2023/06/Artboard-71-copy@2x.png
END:VEVENT
END:VCALENDAR