BEGIN:VCALENDAR
VERSION:2.0
PRODID:-//ITMA: IT Management Association - ECPv6.1.2.2//NONSGML v1.0//EN
CALSCALE:GREGORIAN
METHOD:PUBLISH
X-WR-CALNAME:ITMA: IT Management Association
X-ORIGINAL-URL:https://itma.org.sg
X-WR-CALDESC:Events for ITMA: IT Management Association
REFRESH-INTERVAL;VALUE=DURATION:PT1H
X-Robots-Tag:noindex
X-PUBLISHED-TTL:PT1H
BEGIN:VTIMEZONE
TZID:Asia/Shanghai
BEGIN:STANDARD
TZOFFSETFROM:+0800
TZOFFSETTO:+0800
TZNAME:CST
DTSTART:20230101T000000
END:STANDARD
END:VTIMEZONE
BEGIN:VEVENT
DTSTART;TZID=Asia/Shanghai:20230824T193000
DTEND;TZID=Asia/Shanghai:20230824T210000
DTSTAMP:20260421T100718
CREATED:20230807T090111Z
LAST-MODIFIED:20230807T090111Z
UID:2056-1692905400-1692910800@itma.org.sg
SUMMARY:ITMA Toastmasters 307th Chapter Meeting
DESCRIPTION:
URL:https://itma.org.sg/event/itma-toastmasters-307th-chapter-meeting/
ATTACH;FMTTYPE=image/png:https://itma.org.sg/itma/assets/2023/08/ITMA-TMC-Poster_24Aug23_1200x1200.png
END:VEVENT
END:VCALENDAR