BEGIN:VCALENDAR
VERSION:2.0
PRODID:-//ITMA: IT Management Association - ECPv6.1.2.2//NONSGML v1.0//EN
CALSCALE:GREGORIAN
METHOD:PUBLISH
X-WR-CALNAME:ITMA: IT Management Association
X-ORIGINAL-URL:https://itma.org.sg
X-WR-CALDESC:Events for ITMA: IT Management Association
REFRESH-INTERVAL;VALUE=DURATION:PT1H
X-Robots-Tag:noindex
X-PUBLISHED-TTL:PT1H
BEGIN:VTIMEZONE
TZID:Asia/Shanghai
BEGIN:STANDARD
TZOFFSETFROM:+0800
TZOFFSETTO:+0800
TZNAME:CST
DTSTART:20220101T000000
END:STANDARD
END:VTIMEZONE
BEGIN:VEVENT
DTSTART;TZID=Asia/Shanghai:20220210T164500
DTEND;TZID=Asia/Shanghai:20220210T170000
DTSTAMP:20260421T165931
CREATED:20230609T022107Z
LAST-MODIFIED:20230720T060842Z
UID:645-1644511500-1644512400@itma.org.sg
SUMMARY:ITMA-TANIUM Executive Dinner At The Royal Albatross
DESCRIPTION:Dear Valued ITMA Members\,\nPlease be our guest for an exquisite dinner experience at the Royal Albatross. Hosted by Tanium\, the event brings together an elite group of security leaders and CXOs to network and share best practices in an informal setting. \n\n\n\nAbout Royal Albatross\nThe Royal Albatross\, an ocean-going superyacht\, started her life in Chicago\, cruising the Great Lakes prior to the beginning of an epic journey that brought her over 15\,000 kilometres from the moderate climes of North America to the tropical waters of South East Asia. Since arriving in Singapore\, approximately 360\,000 man hours have been invested re-designing and re-fitting Royal Albatross resulting in a sailing ship of unmatched quality and splendour. \nWe look forward to your company at Royal Albatross for what promises to be an unforgettable evening.
URL:https://itma.org.sg/event/itma-tanium-executive-dinner-at-the-royal-albatross/
LOCATION:Resorts World Sentosa\,\, 8 Sentosa Gateway\, Singapore 098269\, Singapore
ATTACH;FMTTYPE=image/png:https://itma.org.sg/itma/assets/2023/06/Artboard-70-copy-3@2x-1.png
END:VEVENT
END:VCALENDAR