BEGIN:VCALENDAR
VERSION:2.0
PRODID:-//ITMA: IT Management Association - ECPv6.1.2.2//NONSGML v1.0//EN
CALSCALE:GREGORIAN
METHOD:PUBLISH
X-WR-CALNAME:ITMA: IT Management Association
X-ORIGINAL-URL:https://itma.org.sg
X-WR-CALDESC:Events for ITMA: IT Management Association
REFRESH-INTERVAL;VALUE=DURATION:PT1H
X-Robots-Tag:noindex
X-PUBLISHED-TTL:PT1H
BEGIN:VTIMEZONE
TZID:Asia/Shanghai
BEGIN:STANDARD
TZOFFSETFROM:+0800
TZOFFSETTO:+0800
TZNAME:CST
DTSTART:20200101T000000
END:STANDARD
END:VTIMEZONE
BEGIN:VEVENT
DTSTART;TZID=Asia/Shanghai:20200117T180000
DTEND;TZID=Asia/Shanghai:20200117T200000
DTSTAMP:20260422T010421
CREATED:20230721T031713Z
LAST-MODIFIED:20230721T031713Z
UID:1817-1579284000-1579291200@itma.org.sg
SUMMARY:ITMA Strengths Finder Workshop
DESCRIPTION: 
URL:https://itma.org.sg/event/itma-strengths-finder-workshop/
ATTACH;FMTTYPE=image/png:https://itma.org.sg/itma/assets/2023/06/Artboard-71-copy-3@2x.png
END:VEVENT
END:VCALENDAR