BEGIN:VCALENDAR
VERSION:2.0
PRODID:-//ITMA: IT Management Association - ECPv6.1.2.2//NONSGML v1.0//EN
CALSCALE:GREGORIAN
METHOD:PUBLISH
X-WR-CALNAME:ITMA: IT Management Association
X-ORIGINAL-URL:https://itma.org.sg
X-WR-CALDESC:Events for ITMA: IT Management Association
REFRESH-INTERVAL;VALUE=DURATION:PT1H
X-Robots-Tag:noindex
X-PUBLISHED-TTL:PT1H
BEGIN:VTIMEZONE
TZID:Asia/Shanghai
BEGIN:STANDARD
TZOFFSETFROM:+0800
TZOFFSETTO:+0800
TZNAME:CST
DTSTART:20250101T000000
END:STANDARD
END:VTIMEZONE
BEGIN:VEVENT
DTSTART;TZID=Asia/Shanghai:20250405T083000
DTEND;TZID=Asia/Shanghai:20250405T120000
DTSTAMP:20260421T015054
CREATED:20250215T141238Z
LAST-MODIFIED:20250227T073553Z
UID:2506-1743841800-1743854400@itma.org.sg
SUMMARY:ITMA & Red Hat Pickleball Social Play
DESCRIPTION:Looking for a fun and engaging way to stay active while building connections within the ITMA community? ITMA and Red Hat are thrilled to invite you to our Pickleball Social Play event! Whether you are a seasoned player or trying pickleball for the first time\, this is the perfect opportunity to experience one of Singapore’s fastest-growing sports in a friendly and social setting. Get ready for an exciting day filled with friendly matches\, laughter\, and great company—don’t miss out on the chance to bond\, play\, and have fun!
URL:https://itma.org.sg/event/itma-red-hat-pickleball-social-play/
LOCATION:Pickle! Play\, 10 Tebing Lane\, 828836\, Singapore
ATTACH;FMTTYPE=image/png:https://itma.org.sg/itma/assets/2025/02/Pickleball_Social.png
END:VEVENT
END:VCALENDAR