BEGIN:VCALENDAR
VERSION:2.0
PRODID:-//ITMA: IT Management Association - ECPv6.1.2.2//NONSGML v1.0//EN
CALSCALE:GREGORIAN
METHOD:PUBLISH
X-WR-CALNAME:ITMA: IT Management Association
X-ORIGINAL-URL:https://itma.org.sg
X-WR-CALDESC:Events for ITMA: IT Management Association
REFRESH-INTERVAL;VALUE=DURATION:PT1H
X-Robots-Tag:noindex
X-PUBLISHED-TTL:PT1H
BEGIN:VTIMEZONE
TZID:Asia/Shanghai
BEGIN:STANDARD
TZOFFSETFROM:+0800
TZOFFSETTO:+0800
TZNAME:CST
DTSTART:20200101T000000
END:STANDARD
END:VTIMEZONE
BEGIN:VEVENT
DTSTART;TZID=Asia/Shanghai:20200702T163000
DTEND;TZID=Asia/Shanghai:20200702T173000
DTSTAMP:20260421T232712
CREATED:20230609T033632Z
LAST-MODIFIED:20230721T035403Z
UID:722-1593707400-1593711000@itma.org.sg
SUMMARY:ITMA Online Session on Jobs and Skills for ICT Professionals Thursday\, 2nd July 2020
DESCRIPTION:A study “Jobs and Skills for ICT Professionals) was conducted by Tech Talent Assembly (TTAB)\, together with NTUC and ITMA from June 2019 to April 2020. \n\n\n\nThis study was also supported by SCS and SGTech. This was also reported as a Straits Times Article on 13th June 2020.\n(https://www.straitstimes.com/singapore/call-to-train-older-ict-professionals-in-soft-skills) \nThis study covers\n– Employment landscape and job opportunities for ICT professionals in ICT-related sectors\n– Future skills needed for the next three years\n– Development and training programmes to help ICT professionals reskill\, upskill and adapt to changing skill demands\n– Considerations of COVID-19 and how it impacted the ICT sector \nCome join us for an online session with Mr Ng Tiong Gee who is the President\, TTAB as well as an ITMA member himself where he will share the findings reported in the study\, what this could mean for the ICT professionals in your organisation as well as the ICT resource pool in the future.
URL:https://itma.org.sg/event/itma-online-session-on-jobs-and-skills-for-ict-professionals-thursday-2nd-july-2020/
LOCATION:Online\, Singapore
ATTACH;FMTTYPE=image/png:https://itma.org.sg/itma/assets/2023/06/Artboard-70@2x.png
END:VEVENT
END:VCALENDAR