BEGIN:VCALENDAR
VERSION:2.0
PRODID:-//ITMA: IT Management Association - ECPv6.1.2.2//NONSGML v1.0//EN
CALSCALE:GREGORIAN
METHOD:PUBLISH
X-WR-CALNAME:ITMA: IT Management Association
X-ORIGINAL-URL:https://itma.org.sg
X-WR-CALDESC:Events for ITMA: IT Management Association
REFRESH-INTERVAL;VALUE=DURATION:PT1H
X-Robots-Tag:noindex
X-PUBLISHED-TTL:PT1H
BEGIN:VTIMEZONE
TZID:Asia/Shanghai
BEGIN:STANDARD
TZOFFSETFROM:+0800
TZOFFSETTO:+0800
TZNAME:CST
DTSTART:20190101T000000
END:STANDARD
END:VTIMEZONE
BEGIN:VEVENT
DTSTART;TZID=Asia/Shanghai:20191212T180000
DTEND;TZID=Asia/Shanghai:20191212T210000
DTSTAMP:20260421T232219
CREATED:20230609T035013Z
LAST-MODIFIED:20230721T040147Z
UID:744-1576173600-1576184400@itma.org.sg
SUMMARY:ITMA-Menlo Year-End Appreciation Party
DESCRIPTION:Dear ITMA Members \nBy-invitation-only! Please join us for ITMA year-end cocktail party on Thursday\, December 12\, at the Jigger & Pony\, one of the 50 best bars in Asia. \n\n\n\nDear ITMA Members \nBy-invitation-only! Please join us for ITMA year-end cocktail party on Thursday\, December 12\, at the Jigger & Pony\, one of the 50 best bars in Asia.\nIt is the time of the year again to slow things down and to celebrate the completion of another year. Time again to meet up with those who have journeyed alongside with us in 2019. \nThose who have journeyed beside us throughout this year\nThose who have exchanged ideas with us\nThose who have traveled overseas with us\nMost of all\, those who have become our friends – both old and new \nIn partnership with Menlo Security\, we would like to celebrate this wonderful year-end time with you while enjoying some of the best cocktails in Singapore.\nSpace is limited. Please\, register today for RSVP. \nP.S. We will have some interesting gifts for you\, which you won’t want to miss! 🙂
URL:https://itma.org.sg/event/itma-menlo-year-end-appreciation-party/
LOCATION:Jigger & Pony\,\, Amara Singapore 165 Tanjong Pagar Road\, Singapore 088539\, Singapore
ATTACH;FMTTYPE=image/png:https://itma.org.sg/itma/assets/2023/06/Artboard-70-copy-3@2x-1.png
END:VEVENT
END:VCALENDAR