BEGIN:VCALENDAR
VERSION:2.0
PRODID:-//ITMA: IT Management Association - ECPv6.1.2.2//NONSGML v1.0//EN
CALSCALE:GREGORIAN
METHOD:PUBLISH
X-WR-CALNAME:ITMA: IT Management Association
X-ORIGINAL-URL:https://itma.org.sg
X-WR-CALDESC:Events for ITMA: IT Management Association
REFRESH-INTERVAL;VALUE=DURATION:PT1H
X-Robots-Tag:noindex
X-PUBLISHED-TTL:PT1H
BEGIN:VTIMEZONE
TZID:Asia/Shanghai
BEGIN:STANDARD
TZOFFSETFROM:+0800
TZOFFSETTO:+0800
TZNAME:CST
DTSTART:20110101T000000
END:STANDARD
END:VTIMEZONE
BEGIN:VEVENT
DTSTART;TZID=Asia/Shanghai:20110603T191500
DTEND;TZID=Asia/Shanghai:20110603T191500
DTSTAMP:20260425T232147
CREATED:20230611T033608Z
LAST-MODIFIED:20230614T015430Z
UID:1517-1307128500-1307128500@itma.org.sg
SUMMARY:ITMA Members’ Get Together Movie Night
DESCRIPTION:This event is proudly brought to you by the following sponsors. \n\n\n\nThis event is proudly brought to you by the following sponsors: \n\nF5 NETWORKS \n \nARINC
URL:https://itma.org.sg/event/itma-members-get-together-movie-night/
LOCATION:LIDO IMAX Hall\, Singapore\, Singapore
END:VEVENT
END:VCALENDAR