BEGIN:VCALENDAR
VERSION:2.0
PRODID:-//ITMA: IT Management Association - ECPv6.1.2.2//NONSGML v1.0//EN
CALSCALE:GREGORIAN
METHOD:PUBLISH
X-WR-CALNAME:ITMA: IT Management Association
X-ORIGINAL-URL:https://itma.org.sg
X-WR-CALDESC:Events for ITMA: IT Management Association
REFRESH-INTERVAL;VALUE=DURATION:PT1H
X-Robots-Tag:noindex
X-PUBLISHED-TTL:PT1H
BEGIN:VTIMEZONE
TZID:Asia/Shanghai
BEGIN:STANDARD
TZOFFSETFROM:+0800
TZOFFSETTO:+0800
TZNAME:CST
DTSTART:20220101T000000
END:STANDARD
END:VTIMEZONE
BEGIN:VEVENT
DTSTART;TZID=Asia/Shanghai:20221202T184500
DTEND;TZID=Asia/Shanghai:20221202T210000
DTSTAMP:20260421T133346
CREATED:20230608T140935Z
LAST-MODIFIED:20230614T015804Z
UID:548-1670006700-1670014800@itma.org.sg
SUMMARY:ITMA - Hitachi Vantara Durian Feast 2022
DESCRIPTION:Dear ITMA Members\, \nIt is the time of the year again for the ITMA – Hitachi Vantara Durian Feast! \n\n\n\nCome join ITMA and Hitachi Vantara for our annual Durian Feast where you get to satisfy your tastebuds with stars like the legendary Mao Shan Wang as well as other just as celebrated varieties. \nTo complement the King of Fruits we have also prepared additional seasonal tropical fresh fruits that will surprise everyone’s palate. \nDon’t miss out on the fun and get-together as we take full advantage of the upcoming Durian Season!
URL:https://itma.org.sg/event/itma-hitachi-vantara-durian-feast-2022/
LOCATION:Ms Durian Cafe\, 11\, Kelantan Road\, 208604\, Singapore
ATTACH;FMTTYPE=image/png:https://itma.org.sg/itma/assets/2023/06/ITMA-Hitachi-Vantara-Durian-Feast-2022-e1687345296346.png
END:VEVENT
END:VCALENDAR