BEGIN:VCALENDAR
VERSION:2.0
PRODID:-//ITMA: IT Management Association - ECPv6.1.2.2//NONSGML v1.0//EN
CALSCALE:GREGORIAN
METHOD:PUBLISH
X-WR-CALNAME:ITMA: IT Management Association
X-ORIGINAL-URL:https://itma.org.sg
X-WR-CALDESC:Events for ITMA: IT Management Association
REFRESH-INTERVAL;VALUE=DURATION:PT1H
X-Robots-Tag:noindex
X-PUBLISHED-TTL:PT1H
BEGIN:VTIMEZONE
TZID:Asia/Shanghai
BEGIN:STANDARD
TZOFFSETFROM:+0800
TZOFFSETTO:+0800
TZNAME:CST
DTSTART:20210101T000000
END:STANDARD
END:VTIMEZONE
BEGIN:VEVENT
DTSTART;TZID=Asia/Shanghai:20210930T170000
DTEND;TZID=Asia/Shanghai:20210930T170000
DTSTAMP:20260421T164543
CREATED:20230609T023703Z
LAST-MODIFIED:20230721T040834Z
UID:663-1633021200-1633021200@itma.org.sg
SUMMARY:ITMA-GovTech Virtual Event: TraceTogether
DESCRIPTION:Dear ITMA Members\, \nThe TraceTogether team from GovTech\, together with colleagues at MOH\, developed TraceTogether – the world’s first nationwide Bluetooth contact tracing solution – which has supported public health efforts in the fight against COVID-19 since the beginning. \n\n\n\n Hear from Mr Jason Bay\, Senior Director at Government Digital Services\, and the Product Lead for TraceTogether\, on the team’s journey\, tech and design considerations\, and successes.
URL:https://itma.org.sg/event/itma-govtech-virtual-event-tracetogether/
LOCATION:Online\, Singapore
ATTACH;FMTTYPE=image/png:https://itma.org.sg/itma/assets/2023/06/Artboard-70-copy@2x-1.png
END:VEVENT
END:VCALENDAR