BEGIN:VCALENDAR
VERSION:2.0
PRODID:-//ITMA: IT Management Association - ECPv6.1.2.2//NONSGML v1.0//EN
CALSCALE:GREGORIAN
METHOD:PUBLISH
X-WR-CALNAME:ITMA: IT Management Association
X-ORIGINAL-URL:https://itma.org.sg
X-WR-CALDESC:Events for ITMA: IT Management Association
REFRESH-INTERVAL;VALUE=DURATION:PT1H
X-Robots-Tag:noindex
X-PUBLISHED-TTL:PT1H
BEGIN:VTIMEZONE
TZID:Asia/Shanghai
BEGIN:STANDARD
TZOFFSETFROM:+0800
TZOFFSETTO:+0800
TZNAME:CST
DTSTART:20220101T000000
END:STANDARD
END:VTIMEZONE
BEGIN:VEVENT
DTSTART;TZID=Asia/Shanghai:20221003T063000
DTEND;TZID=Asia/Shanghai:20221003T203000
DTSTAMP:20260421T133416
CREATED:20230608T142904Z
LAST-MODIFIED:20230720T064743Z
UID:565-1664778600-1664829000@itma.org.sg
SUMMARY:ITMA-GeoWorks Event: Harnessing the Power of Geospatial Data and Technologies
DESCRIPTION:Join Geoworks and ITMA in this sharing session where geospatial start-ups and companies from the GeoInnovation programme showcase how location-based information and technologies are powering operatins and analytics in various industries such as Health & Safety\, Building & Construction and Environment Sustainability.
URL:https://itma.org.sg/event/itma-geoworks-event-harnessing-the-power-of-geospatial-data-and-technologies/
LOCATION:460 Alexandra Road\, mTower #07-01 Singapore\, 119963\, Singapore
ATTACH;FMTTYPE=image/png:https://itma.org.sg/itma/assets/2023/06/Artboard-70-copy@2x-1.png
END:VEVENT
END:VCALENDAR