BEGIN:VCALENDAR
VERSION:2.0
PRODID:-//ITMA: IT Management Association - ECPv6.1.2.2//NONSGML v1.0//EN
CALSCALE:GREGORIAN
METHOD:PUBLISH
X-WR-CALNAME:ITMA: IT Management Association
X-ORIGINAL-URL:https://itma.org.sg
X-WR-CALDESC:Events for ITMA: IT Management Association
REFRESH-INTERVAL;VALUE=DURATION:PT1H
X-Robots-Tag:noindex
X-PUBLISHED-TTL:PT1H
BEGIN:VTIMEZONE
TZID:Asia/Shanghai
BEGIN:STANDARD
TZOFFSETFROM:+0800
TZOFFSETTO:+0800
TZNAME:CST
DTSTART:20180101T000000
END:STANDARD
END:VTIMEZONE
BEGIN:VEVENT
DTSTART;TZID=Asia/Shanghai:20180411T183000
DTEND;TZID=Asia/Shanghai:20180411T183000
DTSTAMP:20260422T060438
CREATED:20230610T001842Z
LAST-MODIFIED:20230614T015657Z
UID:899-1523471400-1523471400@itma.org.sg
SUMMARY:ITMA Engagement Event: Women-Only Workshop
DESCRIPTION:We are organising another ITMA event but this time\, exclusively for our female membership base. \n\n\n\nDear ITMA Ladies\, \nWe are organising another ITMA event but this time\, exclusively for our female membership base. \nSeize this opportunity now to learn how to effectively enhance your personal appearance by choosing clothes and makeup to match your skin complexion\, hair color and eye color. Achieve an even better-looking silhouette through understanding your body type\, making the right choices in what you wear and heightening your personal style. \nIt’s a skill that can be learned! \nTopics include :\n1. How to determine the colors that best suit an individual natural colorings ( hair\, eye and skin)\n2. How to match accessories \, belts and shoes by going through color theory and analysis lessons\n3. To gain an insight of face shape analysis and figure analysis to achieve an even better-looking silhouette\n4. How to enhance your overall visual effectiveness by understanding the psychology of colors and science of colors\n5. Strategies to heighten your brand \nPlease join us on Wednesday\, 11 April 2018 at 6:30pm at The Verge. Dinner will be provided. Seats are limited to the first 20 ladies !
URL:https://itma.org.sg/event/itma-engagement-event-women-only-workshop/
LOCATION:The Verge\, Singapore
ATTACH;FMTTYPE=image/png:https://itma.org.sg/itma/assets/2023/06/e31.png
END:VEVENT
END:VCALENDAR