BEGIN:VCALENDAR
VERSION:2.0
PRODID:-//ITMA: IT Management Association - ECPv6.1.2.2//NONSGML v1.0//EN
CALSCALE:GREGORIAN
METHOD:PUBLISH
X-WR-CALNAME:ITMA: IT Management Association
X-ORIGINAL-URL:https://itma.org.sg
X-WR-CALDESC:Events for ITMA: IT Management Association
REFRESH-INTERVAL;VALUE=DURATION:PT1H
X-Robots-Tag:noindex
X-PUBLISHED-TTL:PT1H
BEGIN:VTIMEZONE
TZID:Asia/Shanghai
BEGIN:STANDARD
TZOFFSETFROM:+0800
TZOFFSETTO:+0800
TZNAME:CST
DTSTART:20180101T000000
END:STANDARD
END:VTIMEZONE
BEGIN:VEVENT
DTSTART;TZID=Asia/Shanghai:20180726T190000
DTEND;TZID=Asia/Shanghai:20180726T213000
DTSTAMP:20260422T093034
CREATED:20230609T235535Z
LAST-MODIFIED:20230614T015712Z
UID:862-1532631600-1532640600@itma.org.sg
SUMMARY:ITMA Durian Appreciation Night
DESCRIPTION:Calling all durian lovers and durian newbies! Join us for a casual night of durian appreciation to sample different varieties of this seasonal delicacy. \n\n\n\nThis event is brought to you by ITMA and AsiaPac. And like other ITMA events\, we also have a speaker – Someone who will teach you the skills to identify and pick the best fruit. Make that disappointing durian purchase the last time a sneaky durian seller pulls a fast one on you. \nHighlights of the night:\n• Come and find out the 5S of durian\n• Seize the opportunity to learn how to pick the creme de la creme of durians – Mao Sang Wang\n• Relax and join like-minded friends for the delightful indulgence\n• Enjoy the king of fruits under the starry starry nite
URL:https://itma.org.sg/event/itma-durian-appreciation-night-3/
LOCATION:Ah Di @ Dempsey\,\, 7 Dempsey Road\, Singapore 249684\, Singapore
ATTACH;FMTTYPE=image/png:https://itma.org.sg/itma/assets/2023/06/e2.png
END:VEVENT
END:VCALENDAR