BEGIN:VCALENDAR
VERSION:2.0
PRODID:-//ITMA: IT Management Association - ECPv6.1.2.2//NONSGML v1.0//EN
CALSCALE:GREGORIAN
METHOD:PUBLISH
X-WR-CALNAME:ITMA: IT Management Association
X-ORIGINAL-URL:https://itma.org.sg
X-WR-CALDESC:Events for ITMA: IT Management Association
REFRESH-INTERVAL;VALUE=DURATION:PT1H
X-Robots-Tag:noindex
X-PUBLISHED-TTL:PT1H
BEGIN:VTIMEZONE
TZID:Asia/Shanghai
BEGIN:STANDARD
TZOFFSETFROM:+0800
TZOFFSETTO:+0800
TZNAME:CST
DTSTART:20190101T000000
END:STANDARD
END:VTIMEZONE
BEGIN:VEVENT
DTSTART;TZID=Asia/Shanghai:20190220T090000
DTEND;TZID=Asia/Shanghai:20190220T120000
DTSTAMP:20260422T024129
CREATED:20230609T162125Z
LAST-MODIFIED:20230721T033953Z
UID:808-1550653200-1550664000@itma.org.sg
SUMMARY:ITMA Dialogue with the CEO
DESCRIPTION:ITMA starts the year 2019 with another exciting ‘ITMA Dialogue with the CEO’ event. In this session\, come\, hear\, and engage in dialogue with the Chief Executive of Government Technology Agency\, Mr Kok Ping Soon\, as he shares how Govtech is leading digital transformation for the public sector including the Smart Nation and Digital Government initiatives. \n\n\n\n\n\n\n\n\n\n\nHaving trouble reading this email? Click here to view it in your browser.
URL:https://itma.org.sg/event/itma-dialogue-with-the-ceo/
LOCATION:The Verge @ thebridge 2 Science\, Park Drive #01-01 Ascent Singapore 118222\, Singapore
ATTACH;FMTTYPE=image/png:https://itma.org.sg/itma/assets/2023/06/Artboard-71-copy-2@2x.png
END:VEVENT
END:VCALENDAR