BEGIN:VCALENDAR
VERSION:2.0
PRODID:-//ITMA: IT Management Association - ECPv6.1.2.2//NONSGML v1.0//EN
CALSCALE:GREGORIAN
METHOD:PUBLISH
X-WR-CALNAME:ITMA: IT Management Association
X-ORIGINAL-URL:https://itma.org.sg
X-WR-CALDESC:Events for ITMA: IT Management Association
REFRESH-INTERVAL;VALUE=DURATION:PT1H
X-Robots-Tag:noindex
X-PUBLISHED-TTL:PT1H
BEGIN:VTIMEZONE
TZID:Asia/Shanghai
BEGIN:STANDARD
TZOFFSETFROM:+0800
TZOFFSETTO:+0800
TZNAME:CST
DTSTART:20250101T000000
END:STANDARD
END:VTIMEZONE
BEGIN:VEVENT
DTSTART;TZID=Asia/Shanghai:20250422T183000
DTEND;TZID=Asia/Shanghai:20250422T210000
DTSTAMP:20260421T014546
CREATED:20250326T034942Z
LAST-MODIFIED:20250326T041243Z
UID:2590-1745346600-1745355600@itma.org.sg
SUMMARY:ITMA - AvePoint Champagne & Wine Pairing Evening
DESCRIPTION:In today’s world\, things can get pretty complex—whether it’s IT systems\, business processes\, or everything in between. But what if the secret to staying ahead lies in simplicity? Just like “lazy people” who always seek the most efficient way to get things done\, the key is to create smarter\, more streamlined systems that deliver results with less effort. \nJoin us for a relaxed sharing session on simplifying complex systems and unlocking smarter\, more impactful solutions that drive success—much like a fine wine or champagne\, where simplicity and quality create the most enjoyable experiences.
URL:https://itma.org.sg/event/itma-avepoint-champagne-wine-pairing-evening/
LOCATION:SO France @ DUO Galleria\, 7 Fraser Street\, #01-51/56 Duo Galleria\, 189356
ATTACH;FMTTYPE=image/png:https://itma.org.sg/itma/assets/2025/03/ITMA-AvePoint-Champagne-Wine-Pairing-Evening-Social.png
END:VEVENT
END:VCALENDAR