BEGIN:VCALENDAR
VERSION:2.0
PRODID:-//ITMA: IT Management Association - ECPv6.1.2.2//NONSGML v1.0//EN
CALSCALE:GREGORIAN
METHOD:PUBLISH
X-WR-CALNAME:ITMA: IT Management Association
X-ORIGINAL-URL:https://itma.org.sg
X-WR-CALDESC:Events for ITMA: IT Management Association
REFRESH-INTERVAL;VALUE=DURATION:PT1H
X-Robots-Tag:noindex
X-PUBLISHED-TTL:PT1H
BEGIN:VTIMEZONE
TZID:Asia/Shanghai
BEGIN:STANDARD
TZOFFSETFROM:+0800
TZOFFSETTO:+0800
TZNAME:CST
DTSTART:20210101T000000
END:STANDARD
END:VTIMEZONE
BEGIN:VEVENT
DTSTART;TZID=Asia/Shanghai:20210923T190000
DTEND;TZID=Asia/Shanghai:20210923T200000
DTSTAMP:20260421T164925
CREATED:20230609T023825Z
LAST-MODIFIED:20230721T040819Z
UID:666-1632423600-1632427200@itma.org.sg
SUMMARY:ITMA-Attivo Executive Virtual Oyster/Whiskey Session
DESCRIPTION:Dear ITMA Members\, \nWith identity-based attacks on the rise\, today’s businesses require the ability to detect when attackers exploit\, misuse\, or steal enterprise identities. This need is particularly true as organizations race to adopt the public cloud\, and both human and non-human identities continue to increase exponentially. \n\n\n\nJoin us for the ITMA-Attivo Networks Executive Virtual Event\, a 1-hour session filled with insights on Identity Detection and Response (IDR)\, a superior defense for preventing privilege escalation and lateral movement threat activity. \n30 mins\n“Active Defense”\nTony Cole—Chief Technology Officer \nTony Cole is the CTO at Attivo Networks\, the leader in the Cyber Deception space working to deceive\, detect\, and defend enterprises from cyber-attacks. \nPrior to joining Attivo Networks\, Mr. Cole held executive positions at FireEye\, McAfee and Symantec. He’s retired from the U.S. Army\, where he worked in intelligence\, communications\, cryptography\, around the world including building out the Network Security Services at the Pentagon. \nIn this forum\, Mr. Cole to share insights and analysis of innovative defense capabilities tightly align to the MITRE ATT&CK Framework and deception and denial which is now integral parts of NIST Special Publications and MITRE Shield active defense strategies. \n30 mins\n“Whisky from Glass to Plate”\nAdam Loo\, Master Oyster Artisan \nJoin us to an experiential workshop from oyster etiquette to shucking them\, uncovering some of the finest oysters and pair fantastically with whiskey\, particularly Scotch whiskys from Scotland’s coastal regions. \nAttendees who registered for this workshop will receive Oysters and 3 types of whiskies and a tasting glass prior to the event. During the session\, attendees will be guided to taste the different profile of the oysters and whiskies – The Classic Laddie\, BRU Islay Barley 2011\, Port Charlotte 10
URL:https://itma.org.sg/event/itma-attivo-executive-virtual-oyster-whiskey-session/
LOCATION:Online\, Singapore
ATTACH;FMTTYPE=image/png:https://itma.org.sg/itma/assets/2023/06/Artboard-70@2x.png
END:VEVENT
END:VCALENDAR