BEGIN:VCALENDAR
VERSION:2.0
PRODID:-//ITMA: IT Management Association - ECPv6.1.2.2//NONSGML v1.0//EN
CALSCALE:GREGORIAN
METHOD:PUBLISH
X-WR-CALNAME:ITMA: IT Management Association
X-ORIGINAL-URL:https://itma.org.sg
X-WR-CALDESC:Events for ITMA: IT Management Association
REFRESH-INTERVAL;VALUE=DURATION:PT1H
X-Robots-Tag:noindex
X-PUBLISHED-TTL:PT1H
BEGIN:VTIMEZONE
TZID:Asia/Shanghai
BEGIN:STANDARD
TZOFFSETFROM:+0800
TZOFFSETTO:+0800
TZNAME:CST
DTSTART:20230101T000000
END:STANDARD
END:VTIMEZONE
BEGIN:VEVENT
DTSTART;TZID=Asia/Shanghai:20230406T183000
DTEND;TZID=Asia/Shanghai:20230406T203000
DTSTAMP:20260421T192619
CREATED:20230606T030338Z
LAST-MODIFIED:20230720T031146Z
UID:473-1680805800-1680813000@itma.org.sg
SUMMARY:ITMA - Apptio: Cheese Appreciation Workshop
DESCRIPTION:In a rapidly changing market and macroeconomic environment\, leaders need to make the most of what they have and be selective about where they invest resources. However\, it’s challenging to make these crucial decisions without a comprehensive view of your tech spend and what drives the most value. \nJoin us in this workshop to learn about how to make challenging decisions about your technology portfolio based on a complete picture of your investments and the value they drive. \nIn this session\, you’ll learn how to: \n\nRespond to these headwinds by ruthlessly prioritising and replanning your tech budget\nCut spend in the right areas\nGain visibility into your growth levers to steer investments to the right priorities\nAccess data-powered insights to deliver more value from your tech budget more quickly\n\nIn addition\, join us for a cheese appreciation workshop where there will be a showcase of some of the finest and most delicious cheeses from around the world. Whether you’re a seasoned cheese aficionado or just starting to explore the world of cheese\, this workshop is perfect for anyone who appreciates the rich and varied flavours of this beloved dairy product. \nA fromager\, cheese expert will be on hand to guide you through the tasting process\, offering tips on how to pair different cheeses with wine\, breads\, and other tasty accompaniments. You’ll also have the opportunity to vote for your favourite cheese and taste strongest cheese.
URL:https://itma.org.sg/event/itma-apptio-cheese-appreciation-workshop/
LOCATION:The Cheese Deli\, 55 Upper East Coast Road\, 455215\, Singapore
ATTACH;FMTTYPE=image/jpeg:https://itma.org.sg/itma/assets/2023/06/Screenshot-2023-07-20-111021.jpg
END:VEVENT
END:VCALENDAR