BEGIN:VCALENDAR
VERSION:2.0
PRODID:-//ITMA: IT Management Association - ECPv6.1.2.2//NONSGML v1.0//EN
CALSCALE:GREGORIAN
METHOD:PUBLISH
X-WR-CALNAME:ITMA: IT Management Association
X-ORIGINAL-URL:https://itma.org.sg
X-WR-CALDESC:Events for ITMA: IT Management Association
REFRESH-INTERVAL;VALUE=DURATION:PT1H
X-Robots-Tag:noindex
X-PUBLISHED-TTL:PT1H
BEGIN:VTIMEZONE
TZID:Asia/Shanghai
BEGIN:STANDARD
TZOFFSETFROM:+0800
TZOFFSETTO:+0800
TZNAME:CST
DTSTART:20220101T000000
END:STANDARD
END:VTIMEZONE
BEGIN:VEVENT
DTSTART;TZID=Asia/Shanghai:20221124T183000
DTEND;TZID=Asia/Shanghai:20221124T223000
DTSTAMP:20260421T133149
CREATED:20230621T093729Z
LAST-MODIFIED:20230720T065948Z
UID:526-1669314600-1669329000@itma.org.sg
SUMMARY:ITMA Annual Dinner 2022
DESCRIPTION:Dress code: Black & Gold
URL:https://itma.org.sg/event/itma-annual-dinner-2022-2/
LOCATION:Raffles Hotel\, Jubilee Ballroom\, 328 North Bridge Rd\, 188719\, Singapore
ATTACH;FMTTYPE=image/jpeg:https://itma.org.sg/itma/assets/2023/06/241122-ITMA-Annual-Dinner-2022-013.jpg
END:VEVENT
END:VCALENDAR