BEGIN:VCALENDAR
VERSION:2.0
PRODID:-//ITMA: IT Management Association - ECPv6.1.2.2//NONSGML v1.0//EN
CALSCALE:GREGORIAN
METHOD:PUBLISH
X-WR-CALNAME:ITMA: IT Management Association
X-ORIGINAL-URL:https://itma.org.sg
X-WR-CALDESC:Events for ITMA: IT Management Association
REFRESH-INTERVAL;VALUE=DURATION:PT1H
X-Robots-Tag:noindex
X-PUBLISHED-TTL:PT1H
BEGIN:VTIMEZONE
TZID:Asia/Shanghai
BEGIN:STANDARD
TZOFFSETFROM:+0800
TZOFFSETTO:+0800
TZNAME:CST
DTSTART:20190101T000000
END:STANDARD
END:VTIMEZONE
BEGIN:VEVENT
DTSTART;TZID=Asia/Shanghai:20191105T180000
DTEND;TZID=Asia/Shanghai:20191105T210000
DTSTAMP:20260421T232608
CREATED:20230609T094526Z
LAST-MODIFIED:20230721T034811Z
UID:756-1572976800-1572987600@itma.org.sg
SUMMARY:ITMA - Akamai Zero Trust Security Networking Dinner on 5 November 2019
DESCRIPTION:Join us at ITMA – Akamai Zero Trust Security Networking Dinner on 5 November 2019 \n\n\n\nIn the vulnerability of today’s digital landscape\, organizations are transforming their networks to Zero Trust Security Model to tackle the risks and uncertainties. Zero Trust is a foundational security philosophy that is central to human society. It allows us to assign appropriate levels of trust to authorized users and entities while reducing the risk surface presented to untrusted elements. \nWe will be hosting a Zero Trust Security Networking Dinner and would like to cordially invite you to join us.
URL:https://itma.org.sg/event/itma-akamai-zero-trust-security-networking-dinner-on-5-november-2019/
LOCATION:The Den\, at The Warehouse Hotel 320 Havelock Road Robertson Quay Singapore\, 169628\, Singapore
ATTACH;FMTTYPE=image/png:https://itma.org.sg/itma/assets/2023/06/Artboard-71-copy-3@2x.png
END:VEVENT
END:VCALENDAR