BEGIN:VCALENDAR
VERSION:2.0
PRODID:-//ITMA: IT Management Association - ECPv6.1.2.2//NONSGML v1.0//EN
CALSCALE:GREGORIAN
METHOD:PUBLISH
X-WR-CALNAME:ITMA: IT Management Association
X-ORIGINAL-URL:https://itma.org.sg
X-WR-CALDESC:Events for ITMA: IT Management Association
REFRESH-INTERVAL;VALUE=DURATION:PT1H
X-Robots-Tag:noindex
X-PUBLISHED-TTL:PT1H
BEGIN:VTIMEZONE
TZID:Asia/Shanghai
BEGIN:STANDARD
TZOFFSETFROM:+0800
TZOFFSETTO:+0800
TZNAME:CST
DTSTART:20230101T000000
END:STANDARD
END:VTIMEZONE
BEGIN:VEVENT
DTSTART;TZID=Asia/Shanghai:20230330T183000
DTEND;TZID=Asia/Shanghai:20230330T213000
DTSTAMP:20260421T164745
CREATED:20230606T030203Z
LAST-MODIFIED:20230616T082956Z
UID:470-1680201000-1680211800@itma.org.sg
SUMMARY:ITMA AGM cum Web3 Keynote Session
DESCRIPTION:
URL:https://itma.org.sg/event/itma-agm-cum-web3-keynote-session/
LOCATION:The Regent Singapore\, Paterson Room\, 1 Cuscaden Rd\, 249715\, Singapore
ATTACH;FMTTYPE=image/png:https://itma.org.sg/itma/assets/2023/06/Artboard-71-copy-2@2x.png
END:VEVENT
END:VCALENDAR