BEGIN:VCALENDAR
VERSION:2.0
PRODID:-//ITMA: IT Management Association - ECPv6.1.2.2//NONSGML v1.0//EN
CALSCALE:GREGORIAN
METHOD:PUBLISH
X-WR-CALNAME:ITMA: IT Management Association
X-ORIGINAL-URL:https://itma.org.sg
X-WR-CALDESC:Events for ITMA: IT Management Association
REFRESH-INTERVAL;VALUE=DURATION:PT1H
X-Robots-Tag:noindex
X-PUBLISHED-TTL:PT1H
BEGIN:VTIMEZONE
TZID:Asia/Shanghai
BEGIN:STANDARD
TZOFFSETFROM:+0800
TZOFFSETTO:+0800
TZNAME:CST
DTSTART:20150101T000000
END:STANDARD
END:VTIMEZONE
BEGIN:VEVENT
DTSTART;TZID=Asia/Shanghai:20150815T000000
DTEND;TZID=Asia/Shanghai:20150815T235900
DTSTAMP:20260422T063725
CREATED:20230610T043613Z
LAST-MODIFIED:20230614T015630Z
UID:1144-1439596800-1439683140@itma.org.sg
SUMMARY:ITMA 9th Executive CIO Study Trip
DESCRIPTION:ITMA is organizing its 9th CIO Study Trip. The contingent will be headed to Finland and Estonia to experience cutting edge Digital Transformation in various industries. So block your calendars and keep a look out for further information which will be coming soon… \n\n\n\n\n\n\n \n\n\n\n\n\n\n\n\n\n\n\n\n\n\n\n\n\nDear ITMA Member\, \n9th CIO Study Trip\nStudy Trip to Finland & Estonia\n15th to 22nd August 2015 \nThank you for your interest in the ITMA 9th CIO Study Trip 2015. \nDue to overwhelming response\, we would like to inform you that we are “Full House” for this trip. Please feel free to email the ITMA Secretariat at secretariat@itma.org.sg to register your interest and we will keep you informed of our next trip. \nThank you and have a great day! \nITMA is organizing its 9th CIO Study Trip. The contingent will be headed to Finland and Estonia to experience cutting edge Digital Transformation in various industries. Finland has undergone rapid transformation from a manufacturing based economy to an ICT specialised economy\, whereas Estonia overcame its minuscule workforce and lack of physical infrastructure by taking bold steps towards going digital and becoming a start-up haven. \nWe will visit world class reference sites to learn what they have done to drive Digital Transformation and how that has given their organizations a competitive edge.\n\n\nSo block your calendars and keep a look out for further information which will be coming soon. Meanwhile\, please do not hesitate to contact Ms Nancy Lee at +65 9431 9897 or at secretariat@itma.org.sg  if you have any queries. \nBest Regards. \nPlanning Team\n9th ITMA Executive Program CIO Study Trip to Finland & Estonia\n\n\n© 2003- 2015 ITMA Singapore. All Rights Reserved.
URL:https://itma.org.sg/event/itma-9th-executive-cio-study-trip/
LOCATION:Finland\, & Estonia\, Singapore
ATTACH;FMTTYPE=image/png:https://itma.org.sg/itma/assets/2023/06/e8.png
END:VEVENT
END:VCALENDAR