BEGIN:VCALENDAR
VERSION:2.0
PRODID:-//ITMA: IT Management Association - ECPv6.1.2.2//NONSGML v1.0//EN
CALSCALE:GREGORIAN
METHOD:PUBLISH
X-WR-CALNAME:ITMA: IT Management Association
X-ORIGINAL-URL:https://itma.org.sg
X-WR-CALDESC:Events for ITMA: IT Management Association
REFRESH-INTERVAL;VALUE=DURATION:PT1H
X-Robots-Tag:noindex
X-PUBLISHED-TTL:PT1H
BEGIN:VTIMEZONE
TZID:Asia/Shanghai
BEGIN:STANDARD
TZOFFSETFROM:+0800
TZOFFSETTO:+0800
TZNAME:CST
DTSTART:20240101T000000
END:STANDARD
END:VTIMEZONE
BEGIN:VEVENT
DTSTART;TZID=Asia/Shanghai:20240327T183000
DTEND;TZID=Asia/Shanghai:20240327T210000
DTSTAMP:20260421T051240
CREATED:20240206T093920Z
LAST-MODIFIED:20240207T092106Z
UID:2183-1711564200-1711573200@itma.org.sg
SUMMARY:ITMA 44th Annual General Meeting
DESCRIPTION:
URL:https://itma.org.sg/event/itma-44th-annual-general-meeting/
LOCATION:Sentosa Development Corporation\, 39 Artillery Avenue\, Sentosa Singapore\, Singapore\, 099958\, Singapore
ATTACH;FMTTYPE=image/jpeg:https://itma.org.sg/itma/assets/2024/02/AGM-Copy.jpg
END:VEVENT
END:VCALENDAR