BEGIN:VCALENDAR
VERSION:2.0
PRODID:-//ITMA: IT Management Association - ECPv6.1.2.2//NONSGML v1.0//EN
CALSCALE:GREGORIAN
METHOD:PUBLISH
X-WR-CALNAME:ITMA: IT Management Association
X-ORIGINAL-URL:https://itma.org.sg
X-WR-CALDESC:Events for ITMA: IT Management Association
REFRESH-INTERVAL;VALUE=DURATION:PT1H
X-Robots-Tag:noindex
X-PUBLISHED-TTL:PT1H
BEGIN:VTIMEZONE
TZID:Asia/Shanghai
BEGIN:STANDARD
TZOFFSETFROM:+0800
TZOFFSETTO:+0800
TZNAME:CST
DTSTART:20150101T000000
END:STANDARD
END:VTIMEZONE
BEGIN:VEVENT
DTSTART;TZID=Asia/Shanghai:20150207T183000
DTEND;TZID=Asia/Shanghai:20150207T183000
DTSTAMP:20260422T083015
CREATED:20230610T113626Z
LAST-MODIFIED:20230614T015543Z
UID:1190-1423333800-1423333800@itma.org.sg
SUMMARY:ITMA 34th Annual Dinner
DESCRIPTION:ITMA is a community of successful forward-looking IT leaders who makes a difference to the IT industry in Singapore. We look forward to your support and presence at the ITMA 34th Annual General Meeting. \n\n\n\n\n\n\n\n\n\n\nDear ITMA Member\n\nITMA 34th ANNUAL DINNER\n\n7 February 2015\, Saturday\, 6.30pm @ The Westin @ Asia Square Tower 2\, Singapore\n\nITMA is a community of successful forward-looking IT leaders who makes a difference to the IT industry in Singapore. This year\, we will be celebrating our 34th year of success in advancing IT management as an industry and as a profession in Singapore. As an appreciation to our valued members for the continuous support given to the Association\, we would like to extend a complimentary invitation to you in this celebration.\n\nMark this date on your calendar. Come and be part of the celebration and connect with other like-minded members\, CIOs and senior staff of the various IT organisations! \n\n\n\nDate\n:\nSaturday\, 7 February 2015\n\n\nTime\n:\n6.30pm (Registration and Cocktails)\n\n\nVenue\n:\nGrand Ballroom (Level 3)\n12 Marina View\, Asia Square Tower 2\nSingapore (018961)\n\n\n\n\n\n\nTheme\n:\nStarry Starry Night ~ Where the night greets the stars and moon\n\n\nDress Code\n:\nFormal with tinges of Red and White\n\n\n\nRegister now at ITMA 34th Annual Dinner. \nThank you. \n\nMark Tham\nHonorary Secretary\, ITMA\nChairman\, ITMA Annual Dinner 2015\n\n\n\n\n\n\nOUR PROUD SPONSORS
URL:https://itma.org.sg/event/itma-34th-annual-dinner/
LOCATION:The Westin @\, Asia Square Tower 2\, Singapore\, Singapore
ATTACH;FMTTYPE=image/png:https://itma.org.sg/itma/assets/2023/06/e66.png
END:VEVENT
END:VCALENDAR