BEGIN:VCALENDAR
VERSION:2.0
PRODID:-//ITMA: IT Management Association - ECPv6.1.2.2//NONSGML v1.0//EN
CALSCALE:GREGORIAN
METHOD:PUBLISH
X-WR-CALNAME:ITMA: IT Management Association
X-ORIGINAL-URL:https://itma.org.sg
X-WR-CALDESC:Events for ITMA: IT Management Association
REFRESH-INTERVAL;VALUE=DURATION:PT1H
X-Robots-Tag:noindex
X-PUBLISHED-TTL:PT1H
BEGIN:VTIMEZONE
TZID:Asia/Shanghai
BEGIN:STANDARD
TZOFFSETFROM:+0800
TZOFFSETTO:+0800
TZNAME:CST
DTSTART:20150101T000000
END:STANDARD
END:VTIMEZONE
BEGIN:VEVENT
DTSTART;TZID=Asia/Shanghai:20150508T090000
DTEND;TZID=Asia/Shanghai:20150508T130000
DTSTAMP:20260422T101320
CREATED:20230610T045546Z
LAST-MODIFIED:20230614T141703Z
UID:1169-1431075600-1431090000@itma.org.sg
SUMMARY:Invitation To Personal Data Protection (PDP) Seminar 2015
DESCRIPTION:The Personal Data Protection (PDP) Seminar returns this year\, with the theme “Securing Personal Data for a Competitive Edge”. This is an excellent platform for industry stakeholders to exchange knowledge and best practices on personal data protection.
URL:https://itma.org.sg/event/invitation-to-personal-data-protection-pdp-seminar-2015/
LOCATION:The Ritz-Carlton\,\, Millenia Singapore\, Grand Ballroom\, Level 1\, Singapore
ATTACH;FMTTYPE=image/png:https://itma.org.sg/itma/assets/2023/06/e7-1.png
END:VEVENT
END:VCALENDAR