BEGIN:VCALENDAR
VERSION:2.0
PRODID:-//ITMA: IT Management Association - ECPv6.1.2.2//NONSGML v1.0//EN
CALSCALE:GREGORIAN
METHOD:PUBLISH
X-WR-CALNAME:ITMA: IT Management Association
X-ORIGINAL-URL:https://itma.org.sg
X-WR-CALDESC:Events for ITMA: IT Management Association
REFRESH-INTERVAL;VALUE=DURATION:PT1H
X-Robots-Tag:noindex
X-PUBLISHED-TTL:PT1H
BEGIN:VTIMEZONE
TZID:Asia/Shanghai
BEGIN:STANDARD
TZOFFSETFROM:+0800
TZOFFSETTO:+0800
TZNAME:CST
DTSTART:20180101T000000
END:STANDARD
END:VTIMEZONE
BEGIN:VEVENT
DTSTART;TZID=Asia/Shanghai:20180725T000000
DTEND;TZID=Asia/Shanghai:20180725T115900
DTSTAMP:20260422T060551
CREATED:20230609T235859Z
LAST-MODIFIED:20230614T015712Z
UID:866-1532476800-1532519940@itma.org.sg
SUMMARY:Invitation to 2018 Personal Data Protection (PDP) Seminar: Powering Innovation through Trust
DESCRIPTION:The Personal Data Protection Commission would like to invite you to the 2018 Personal Data Protection (PDP) Seminar: Powering Innovation through Trust which will be held on 25 July 2018 (Wednesday) at the Raffles City Convention Centre. \n\n\n\nDear ITMA Members\, \nThe Personal Data Protection Commission would like to invite you to the 2018 Personal Data Protection (PDP) Seminar: Powering Innovation through Trust which will be held on 25 July 2018 (Wednesday) at the Raffles City Convention Centre. \nHeld on an annual basis\, the PDP seminar is an excellent platform for industry practitioners and thought leaders to share and learn about global developments and best practices in the domain of personal data protection. This year’s seminar features a full-day event\, with a line-up of leading local and international industry speakers\, two panel discussions in the morning\, followed by concurrent workshops in the afternoon. There will be a side event\, co-organised with the Centre for Information Policy Leadership (CIPL)\, on 26 July 2016\, designed to demonstrate accountability in practice through interactive discussions\, practical demonstrations and presentations. \nWe are also honoured to have Mr S Iswaran\, Minister for Communications and Information\, grace the event as the Guest of Honour. \nAs participation in the seminar is by invitation only\, all registrations will require a password assigned by the PDPC. To facilitate this\, you may use the direct mailer below to register\, and enter the registration code pdpsem18. \nKindly note that Registration closes on 18 July 2018. As seats are on a first-come-first-served basis\, do register early to avoid disappointment. Successful registrants will receive their confirmation email by 20 July 2018. \nThank you. \nITMA PDPA Officer Representative\n94319897
URL:https://itma.org.sg/event/invitation-to-2018-personal-data-protection-pdp-seminar-powering-innovation-through-trust/
LOCATION:Raffles City Convention Centre\, Singapore
ATTACH;FMTTYPE=image/png:https://itma.org.sg/itma/assets/2023/06/e25.png
END:VEVENT
END:VCALENDAR