BEGIN:VCALENDAR
VERSION:2.0
PRODID:-//ITMA: IT Management Association - ECPv6.1.2.2//NONSGML v1.0//EN
CALSCALE:GREGORIAN
METHOD:PUBLISH
X-WR-CALNAME:ITMA: IT Management Association
X-ORIGINAL-URL:https://itma.org.sg
X-WR-CALDESC:Events for ITMA: IT Management Association
REFRESH-INTERVAL;VALUE=DURATION:PT1H
X-Robots-Tag:noindex
X-PUBLISHED-TTL:PT1H
BEGIN:VTIMEZONE
TZID:Asia/Shanghai
BEGIN:STANDARD
TZOFFSETFROM:+0800
TZOFFSETTO:+0800
TZNAME:CST
DTSTART:20100101T000000
END:STANDARD
END:VTIMEZONE
BEGIN:VEVENT
DTSTART;TZID=Asia/Shanghai:20100708T080000
DTEND;TZID=Asia/Shanghai:20100708T170000
DTSTAMP:20260425T002639
CREATED:20230611T041652Z
LAST-MODIFIED:20230614T015352Z
UID:1586-1278576000-1278608400@itma.org.sg
SUMMARY:Infocomm Professional Development Forum
DESCRIPTION:
URL:https://itma.org.sg/event/infocomm-professional-development-forum/
LOCATION:Singapore Management\, University\, Singapore
END:VEVENT
END:VCALENDAR