BEGIN:VCALENDAR
VERSION:2.0
PRODID:-//ITMA: IT Management Association - ECPv6.1.2.2//NONSGML v1.0//EN
CALSCALE:GREGORIAN
METHOD:PUBLISH
X-WR-CALNAME:ITMA: IT Management Association
X-ORIGINAL-URL:https://itma.org.sg
X-WR-CALDESC:Events for ITMA: IT Management Association
REFRESH-INTERVAL;VALUE=DURATION:PT1H
X-Robots-Tag:noindex
X-PUBLISHED-TTL:PT1H
BEGIN:VTIMEZONE
TZID:Asia/Shanghai
BEGIN:STANDARD
TZOFFSETFROM:+0800
TZOFFSETTO:+0800
TZNAME:CST
DTSTART:20110101T000000
END:STANDARD
END:VTIMEZONE
BEGIN:VEVENT
DTSTART;TZID=Asia/Shanghai:20111025T131500
DTEND;TZID=Asia/Shanghai:20111025T193000
DTSTAMP:20260425T081410
CREATED:20230611T023530Z
LAST-MODIFIED:20230614T015430Z
UID:1474-1319548500-1319571000@itma.org.sg
SUMMARY:Infocomm Industry Forum 2011
DESCRIPTION:It is about businesses and companies constantly connected with their customers and partners anytime\, anywhere.It is about instant access to the most relevant information. It is about proactive engagement with next generation culture. \n\n\n\n \nIt is about businesses and companies constantly connected with their customers and partners anytime\, anywhere.It is about instant access to the most relevant information. It is about proactive engagement with next generation culture. \nIn short\, it is about convergence. \nCompanies and businesses must leverage all the ICT resources at their disposal to empower themselves in a converged business environment. The cloud\, social networks\, global supply chains\, emerging technologies and more\, are needed not just for business efficiency\, but organisational success. \nThe Infocomm Industry Forum 2011 is your partner and guide in your journey to innovating for a new converging world.
URL:https://itma.org.sg/event/infocomm-industry-forum-2011/
LOCATION:Orchard Hotel\, Singapore\, Singapore
ATTACH;FMTTYPE=image/png:https://itma.org.sg/itma/assets/2023/06/e127.png
END:VEVENT
END:VCALENDAR