BEGIN:VCALENDAR
VERSION:2.0
PRODID:-//ITMA: IT Management Association - ECPv6.1.2.2//NONSGML v1.0//EN
CALSCALE:GREGORIAN
METHOD:PUBLISH
X-WR-CALNAME:ITMA: IT Management Association
X-ORIGINAL-URL:https://itma.org.sg
X-WR-CALDESC:Events for ITMA: IT Management Association
REFRESH-INTERVAL;VALUE=DURATION:PT1H
X-Robots-Tag:noindex
X-PUBLISHED-TTL:PT1H
BEGIN:VTIMEZONE
TZID:Asia/Shanghai
BEGIN:STANDARD
TZOFFSETFROM:+0800
TZOFFSETTO:+0800
TZNAME:CST
DTSTART:20220101T000000
END:STANDARD
END:VTIMEZONE
BEGIN:VEVENT
DTSTART;TZID=Asia/Shanghai:20220224T190000
DTEND;TZID=Asia/Shanghai:20220224T204500
DTSTAMP:20260421T150305
CREATED:20230609T021605Z
LAST-MODIFIED:20230720T061313Z
UID:637-1645729200-1645735500@itma.org.sg
SUMMARY:IMDA x ITMA: Smart Cities Digital Tech Sharing
DESCRIPTION:With a growing global population\, the world is inevitably moving towards rapid urbanization. By 2050\, over 70% of people are expected to live in cities. How then can we leverage on the digital revolution to future-proof the cities of tomorrow to be more resilient\, sustainable and efficient? \n\n\n\nJoin us in this first ever collaborative event between ITMA and IMDA to explore the possibilities of Smart Cities applications; Hear from innovative leaders from IMDA’s Accreditation programme who will share real-world use cases on how trusted deep tech solutions can shape Smart Cities of the future.
URL:https://itma.org.sg/event/imda-x-itma-smart-cities-digital-tech-sharing/
LOCATION:Singapore Marriott Tang Plaza Hotel\,\, Level 3 Ballrooms II & III\, Singapore
ATTACH;FMTTYPE=image/png:https://itma.org.sg/itma/assets/2023/06/Artboard-70@2x.png
END:VEVENT
END:VCALENDAR