BEGIN:VCALENDAR
VERSION:2.0
PRODID:-//ITMA: IT Management Association - ECPv6.1.2.2//NONSGML v1.0//EN
CALSCALE:GREGORIAN
METHOD:PUBLISH
X-WR-CALNAME:ITMA: IT Management Association
X-ORIGINAL-URL:https://itma.org.sg
X-WR-CALDESC:Events for ITMA: IT Management Association
REFRESH-INTERVAL;VALUE=DURATION:PT1H
X-Robots-Tag:noindex
X-PUBLISHED-TTL:PT1H
BEGIN:VTIMEZONE
TZID:Asia/Shanghai
BEGIN:STANDARD
TZOFFSETFROM:+0800
TZOFFSETTO:+0800
TZNAME:CST
DTSTART:20210101T000000
END:STANDARD
END:VTIMEZONE
BEGIN:VEVENT
DTSTART;TZID=Asia/Shanghai:20210205T160000
DTEND;TZID=Asia/Shanghai:20210205T180000
DTSTAMP:20260421T170550
CREATED:20230609T025329Z
LAST-MODIFIED:20230721T040539Z
UID:688-1612540800-1612548000@itma.org.sg
SUMMARY:ICT Tech Sharing Event @ SPTEL
DESCRIPTION:Dear ITMA Members\, \nThe current challenging business climate has driven organisations to look towards digitalisation for business continuity and recovery. However\, this has caused increased stress on organization networks. Businesses are confronted with unpredictable bandwidth demands and increased cyber security risk\, as traditional network models struggle to cope with the increased use of cloud applications and growing adoption of new technologies like machine learning and the Internet of Things. \n\n\n\n“In this exclusive session organised for ITMA members\, we partner SPTel to bring you insights on the latest ICT technology trends\, focusing on Software Defined Networking technology and how it can lead to improved business agility\, security and total cost of ownership with dynamic resource allocation for bandwidth and even cybersecurity. As “Work from Home” has become a reality and buzzword in the current operating regime\, we will look at how improved ways of connecting and collaborating across segregated teams can be achieved by enabling home offices to be seamlessly managed as branch locations for improved security and control. \nMembers will continue the conversation with fellow members over a fun and informative Wine and Cheese pairing Masterclass at the end of the workshop. Christian Long\, our guest sommelier has curated wines for Restaurant JAG and will be sharing his extensive expertise with us and members will be tasting different types of artisanal cheeses and wines curated from some of the best regions in France. \nAttendees who registered for this event will also be invited for another closing event to wrap up the workshop. This closing event will be subjected to updates on prevailing safety measures.”
URL:https://itma.org.sg/event/ict-tech-sharing-event-sptel/
LOCATION:Innovation Hub\,\, 3 Ang Mo Kio Electronics Park Rd\, #03-02\, Singapore 567714\, Singapore
ATTACH;FMTTYPE=image/png:https://itma.org.sg/itma/assets/2023/06/Artboard-71-copy-2@2x.png
END:VEVENT
END:VCALENDAR