BEGIN:VCALENDAR
VERSION:2.0
PRODID:-//ITMA: IT Management Association - ECPv6.1.2.2//NONSGML v1.0//EN
CALSCALE:GREGORIAN
METHOD:PUBLISH
X-WR-CALNAME:ITMA: IT Management Association
X-ORIGINAL-URL:https://itma.org.sg
X-WR-CALDESC:Events for ITMA: IT Management Association
REFRESH-INTERVAL;VALUE=DURATION:PT1H
X-Robots-Tag:noindex
X-PUBLISHED-TTL:PT1H
BEGIN:VTIMEZONE
TZID:Asia/Shanghai
BEGIN:STANDARD
TZOFFSETFROM:+0800
TZOFFSETTO:+0800
TZNAME:CST
DTSTART:20220101T000000
END:STANDARD
END:VTIMEZONE
BEGIN:VEVENT
DTSTART;TZID=Asia/Shanghai:20220421T183000
DTEND;TZID=Asia/Shanghai:20220421T210000
DTSTAMP:20260421T182702
CREATED:20230608T165717Z
LAST-MODIFIED:20230720T062213Z
UID:623-1650565800-1650574800@itma.org.sg
SUMMARY:How to scale a winning AI strategy?
DESCRIPTION:Dear ITMA Members\, \nAccording to McKinsey\, by building machine learning into processes\, leading organizations are increasing process efficiency by 30% or more while also increasing revenues by 5%-10%. \nHowever\, there is a lot of decision making and automation along the way and that can bring risks to the equation. This leads us to the following questions: \n– How do organizations ensure their AI transformation aligns with their strategic goals and delivers meaningful impact for the business?\n– How do organizations set themselves up to get started and then scale the use of AI across the business in a governed way?\n– How do organizations create resilient AI-driven assets to maximize impact?
URL:https://itma.org.sg/event/how-to-scale-a-winning-ai-strategy/
LOCATION:1 Cuscaden Road\,\, Singapore 249715\, Singapore
ATTACH;FMTTYPE=image/png:https://itma.org.sg/itma/assets/2023/06/Artboard-71-copy-3@2x.png
END:VEVENT
END:VCALENDAR