BEGIN:VCALENDAR
VERSION:2.0
PRODID:-//ITMA: IT Management Association - ECPv6.1.2.2//NONSGML v1.0//EN
CALSCALE:GREGORIAN
METHOD:PUBLISH
X-WR-CALNAME:ITMA: IT Management Association
X-ORIGINAL-URL:https://itma.org.sg
X-WR-CALDESC:Events for ITMA: IT Management Association
REFRESH-INTERVAL;VALUE=DURATION:PT1H
X-Robots-Tag:noindex
X-PUBLISHED-TTL:PT1H
BEGIN:VTIMEZONE
TZID:Asia/Shanghai
BEGIN:STANDARD
TZOFFSETFROM:+0800
TZOFFSETTO:+0800
TZNAME:CST
DTSTART:20110101T000000
END:STANDARD
END:VTIMEZONE
BEGIN:VEVENT
DTSTART;TZID=Asia/Shanghai:20110225T153000
DTEND;TZID=Asia/Shanghai:20110225T173000
DTSTAMP:20260424T231226
CREATED:20230611T035418Z
LAST-MODIFIED:20230614T015352Z
UID:1547-1298647800-1298655000@itma.org.sg
SUMMARY:Hi-Tea cum Coffee Appreciation Talk
DESCRIPTION:Ever wondered what it takes to brew a good cup of high quality gourmet coffee? It is our privilege to have Euraco\, Singapore’s agent for Illy Coffee\, to share their knowledge and passion for it with us. We would like to invite you to join us for this Hi-Tea cum Coffee Appreciation session. \n\n\n\nEver wondered what it takes to brew a good cup of high quality gourmet coffee? It is our privilege to have Euraco\, Singapore’s agent for Illy Coffee\, to share their knowledge and passion for it with us. We would like to invite you to join us for this Hi-Tea cum Coffee Appreciation session. \nThe presenter of the coffee appreciation talk is Mr Vincent Yap\, Business Development Manager\, Euraco. \nThe content of the talk\, which will be an hour long\, is as follows:\n* History and evolution of coffee\, storage and packaging of coffee.\n* Methods of brewing coffee.\n* What is espresso coffee\, and what is a cup of good espresso coffee.\n* Distinct features of high quality gourmet coffee.\n* How a layman can make a cup of perfect coffee at home.
URL:https://itma.org.sg/event/hi-tea-cum-coffee-appreciation-talk/
LOCATION:Royal Plaza on Scotts Hotel\,\, Carousel Restaurant\, Singapore
END:VEVENT
END:VCALENDAR