BEGIN:VCALENDAR
VERSION:2.0
PRODID:-//ITMA: IT Management Association - ECPv6.1.2.2//NONSGML v1.0//EN
CALSCALE:GREGORIAN
METHOD:PUBLISH
X-WR-CALNAME:ITMA: IT Management Association
X-ORIGINAL-URL:https://itma.org.sg
X-WR-CALDESC:Events for ITMA: IT Management Association
REFRESH-INTERVAL;VALUE=DURATION:PT1H
X-Robots-Tag:noindex
X-PUBLISHED-TTL:PT1H
BEGIN:VTIMEZONE
TZID:Asia/Shanghai
BEGIN:STANDARD
TZOFFSETFROM:+0800
TZOFFSETTO:+0800
TZNAME:CST
DTSTART:20220101T000000
END:STANDARD
END:VTIMEZONE
BEGIN:VEVENT
DTSTART;TZID=Asia/Shanghai:20220804T063000
DTEND;TZID=Asia/Shanghai:20220804T213000
DTSTAMP:20260421T181728
CREATED:20230608T155310Z
LAST-MODIFIED:20230720T064114Z
UID:590-1659594600-1659648600@itma.org.sg
SUMMARY:Future-Proof Your Business – Insights from Tech Disruptors and How They Disrupted Their Industries
DESCRIPTION:Dear Valued ITMA Members \nCome join us in this fireside chat to delve deeper into the thoughts of disruptive tech founders\, to understand why and how they disrupted their respective industries\, and take away useful tips on how leaders can seize opportunities to future proof your organisations against disruption. \n\n\n\nSPEAKER \nDaphne Ng \nCo-Founder and CEO of Dedoco \nDaphne Ng is the co-founder and CEO of Dedoco\, a first-of-its-kind document and workflow management platform that focuses on protecting data privacy and document security for companies\, leveraging on blockchain technology.​ Setup in 2020\, Dedoco is now transacting thousands of documents every month across Government\, Banks\, FIs\, Professional Services\, Real Estate\, Tech platforms. \nGaurav Bubna \nCo-Founder of NextBillion.ai \nGaurav Bubna is the co-founder of NextBillion.ai\, a spatial data platform that helps enterprises manage location data and adopt an AI-first approach at scale for every use case and geography. The company enables enterprises to tackle highly complex location problems with the help of tailored location and navigation technology solutions.\nDorian Selz\nCo-Founder and CEO of Squirro \nDr. Dorian Selz is a serial entrepreneur and current co-founder and CEO of Squirro\, an Augmented Intelligence company. Squirro marries data from any source with your intent\, and your context to intelligently augment decision-making. It’s the end of search. \n  \nJoseph Ling\nFounder and CEO of Vouch \nJoseph Ling is the Founder and Chief Executive Officer of Vouch\, an award-winning travel-tech company that offers hoteliers digital solutions for enhancing guest experience\, maximising revenue and optimising operational efficiency.
URL:https://itma.org.sg/event/future-proof-your-business-insights-from-tech-disruptors-and-how-they-disrupted-their-industries/
LOCATION:PIXEL Collaboration Space 10\, Central Exchange Green\, Singapore\, 138649\, Singapore
ATTACH;FMTTYPE=image/png:https://itma.org.sg/itma/assets/2023/06/Artboard-70@2x.png
END:VEVENT
END:VCALENDAR